BEGIN:VCALENDAR
VERSION:2.0
PRODID:-//Physiotherapie München | TherapiePUNKT - ECPv6.15.20//NONSGML v1.0//EN
CALSCALE:GREGORIAN
METHOD:PUBLISH
X-WR-CALNAME:Physiotherapie München | TherapiePUNKT
X-ORIGINAL-URL:https://www.therapiepunkt.de
X-WR-CALDESC:Veranstaltungen für Physiotherapie München | TherapiePUNKT
REFRESH-INTERVAL;VALUE=DURATION:PT1H
X-Robots-Tag:noindex
X-PUBLISHED-TTL:PT1H
BEGIN:VTIMEZONE
TZID:Europe/Berlin
BEGIN:DAYLIGHT
TZOFFSETFROM:+0100
TZOFFSETTO:+0200
TZNAME:CEST
DTSTART:20210328T010000
END:DAYLIGHT
BEGIN:STANDARD
TZOFFSETFROM:+0200
TZOFFSETTO:+0100
TZNAME:CET
DTSTART:20211031T010000
END:STANDARD
BEGIN:DAYLIGHT
TZOFFSETFROM:+0100
TZOFFSETTO:+0200
TZNAME:CEST
DTSTART:20220327T010000
END:DAYLIGHT
BEGIN:STANDARD
TZOFFSETFROM:+0200
TZOFFSETTO:+0100
TZNAME:CET
DTSTART:20221030T010000
END:STANDARD
BEGIN:DAYLIGHT
TZOFFSETFROM:+0100
TZOFFSETTO:+0200
TZNAME:CEST
DTSTART:20230326T010000
END:DAYLIGHT
BEGIN:STANDARD
TZOFFSETFROM:+0200
TZOFFSETTO:+0100
TZNAME:CET
DTSTART:20231029T010000
END:STANDARD
END:VTIMEZONE
BEGIN:VEVENT
DTSTART;VALUE=DATE:20220916
DTEND;VALUE=DATE:20220919
DTSTAMP:20260419T152838
CREATED:20220913T133925Z
LAST-MODIFIED:20220913T134249Z
UID:7369-1663286400-1663545599@www.therapiepunkt.de
SUMMARY:Führungskräfte Weekend in Tirol
DESCRIPTION:„Endspurt 2022 – Vision 2023“ – unser Motto des diesjährigen Führungskräfte-Weekends. \nAus der Vergangenheit lernen und nach vorne blicken * inspiriert werden durch intensive Worksessions * Ideen und Visionen entwickeln\, formen und verfestigen * gemeinsam Essen genießen und dabei über den Tellerrand hinausschauen * \n\n….   und das alles in einem heimeligen Ambiente inmitten einer einmalig schönen Landschaft –  mit jeder Menge Spaß\,  Bewegung an der frischen Luft und ausgiebig Zeit für wertvolle Gespräche. \n\nWir freuen uns auf ein Wochenende\, das uns noch lange in Erinnerung bleiben wird. \nDein therapiePUNKT Event-Team \n 
URL:https://www.therapiepunkt.de/events-online/fuehrungskraefte_weekend_tirol/
LOCATION:Tirol\, Österreich
CATEGORIES:Interne Veranstaltungen
ATTACH;FMTTYPE=image/jpeg:https://www.therapiepunkt.de/wp-content/uploads/2022/09/369547425.jpeg
END:VEVENT
END:VCALENDAR