BEGIN:VCALENDAR
VERSION:2.0
PRODID:-//Physiotherapie München | TherapiePUNKT - ECPv6.15.20//NONSGML v1.0//EN
CALSCALE:GREGORIAN
METHOD:PUBLISH
X-ORIGINAL-URL:https://www.therapiepunkt.de
X-WR-CALDESC:Veranstaltungen für Physiotherapie München | TherapiePUNKT
REFRESH-INTERVAL;VALUE=DURATION:PT1H
X-Robots-Tag:noindex
X-PUBLISHED-TTL:PT1H
BEGIN:VTIMEZONE
TZID:Europe/Berlin
BEGIN:DAYLIGHT
TZOFFSETFROM:+0100
TZOFFSETTO:+0200
TZNAME:CEST
DTSTART:20200329T010000
END:DAYLIGHT
BEGIN:STANDARD
TZOFFSETFROM:+0200
TZOFFSETTO:+0100
TZNAME:CET
DTSTART:20201025T010000
END:STANDARD
BEGIN:DAYLIGHT
TZOFFSETFROM:+0100
TZOFFSETTO:+0200
TZNAME:CEST
DTSTART:20210328T010000
END:DAYLIGHT
BEGIN:STANDARD
TZOFFSETFROM:+0200
TZOFFSETTO:+0100
TZNAME:CET
DTSTART:20211031T010000
END:STANDARD
BEGIN:DAYLIGHT
TZOFFSETFROM:+0100
TZOFFSETTO:+0200
TZNAME:CEST
DTSTART:20220327T010000
END:DAYLIGHT
BEGIN:STANDARD
TZOFFSETFROM:+0200
TZOFFSETTO:+0100
TZNAME:CET
DTSTART:20221030T010000
END:STANDARD
BEGIN:DAYLIGHT
TZOFFSETFROM:+0100
TZOFFSETTO:+0200
TZNAME:CEST
DTSTART:20230326T010000
END:DAYLIGHT
BEGIN:STANDARD
TZOFFSETFROM:+0200
TZOFFSETTO:+0100
TZNAME:CET
DTSTART:20231029T010000
END:STANDARD
BEGIN:DAYLIGHT
TZOFFSETFROM:+0100
TZOFFSETTO:+0200
TZNAME:CEST
DTSTART:20240331T010000
END:DAYLIGHT
BEGIN:STANDARD
TZOFFSETFROM:+0200
TZOFFSETTO:+0100
TZNAME:CET
DTSTART:20241027T010000
END:STANDARD
BEGIN:DAYLIGHT
TZOFFSETFROM:+0100
TZOFFSETTO:+0200
TZNAME:CEST
DTSTART:20250330T010000
END:DAYLIGHT
BEGIN:STANDARD
TZOFFSETFROM:+0200
TZOFFSETTO:+0100
TZNAME:CET
DTSTART:20251026T010000
END:STANDARD
BEGIN:DAYLIGHT
TZOFFSETFROM:+0100
TZOFFSETTO:+0200
TZNAME:CEST
DTSTART:20260329T010000
END:DAYLIGHT
BEGIN:STANDARD
TZOFFSETFROM:+0200
TZOFFSETTO:+0100
TZNAME:CET
DTSTART:20261025T010000
END:STANDARD
BEGIN:DAYLIGHT
TZOFFSETFROM:+0100
TZOFFSETTO:+0200
TZNAME:CEST
DTSTART:20270328T010000
END:DAYLIGHT
BEGIN:STANDARD
TZOFFSETFROM:+0200
TZOFFSETTO:+0100
TZNAME:CET
DTSTART:20271031T010000
END:STANDARD
END:VTIMEZONE
BEGIN:VEVENT
DTSTART;TZID=Europe/Berlin:20260224T120000
DTEND;TZID=Europe/Berlin:20260224T133000
DTSTAMP:20260419T151130
CREATED:20260318T155413Z
LAST-MODIFIED:20260318T155413Z
UID:21009-1771934400-1771939800@www.therapiepunkt.de
SUMMARY:Interne Fortbildung: LWS-Refresher
DESCRIPTION:interne Quartalsfortbildung am Standort
URL:https://www.therapiepunkt.de/events-online/lwsrefresher-3/
LOCATION:therapiePUNKT Prinzregentenplatz
CATEGORIES:Interne Veranstaltungen,Physiotherapie,Prävention,Wegweiser
ATTACH;FMTTYPE=image/jpeg:https://www.therapiepunkt.de/wp-content/uploads/2024/01/chuttersnap-1eL99eGXp0g-unsplash-2-e1705327477160.jpg
END:VEVENT
BEGIN:VEVENT
DTSTART;TZID=Europe/Berlin:20250701T120000
DTEND;TZID=Europe/Berlin:20250701T130000
DTSTAMP:20260419T151130
CREATED:20250813T142212Z
LAST-MODIFIED:20250813T142258Z
UID:18644-1751371200-1751374800@www.therapiepunkt.de
SUMMARY:Interne Veranstaltung: Der Befundprozess im therapiePUNKT „Reise zur Gesundheit“ 3.0 - Praxis Prinzregentenplatz & City
DESCRIPTION:In diesem Workshop\, der durch alle Standorte geht\, besprechen wir alles\, was zum Thema standardisierte Befundung im therapiePUNKT wichtig ist – alt bekanntes und alles\, was neu ist.
URL:https://www.therapiepunkt.de/events-online/mops-7-2-2/
LOCATION:therapiePUNKT Prinzregentenplatz
CATEGORIES:Interne Veranstaltungen
ATTACH;FMTTYPE=image/jpeg:https://www.therapiepunkt.de/wp-content/uploads/2025/01/pexels-fauxels-3183171-scaled.jpg
END:VEVENT
BEGIN:VEVENT
DTSTART;TZID=Europe/Berlin:20241116T090000
DTEND;TZID=Europe/Berlin:20241117T150000
DTSTAMP:20260419T151130
CREATED:20241025T071559Z
LAST-MODIFIED:20241025T071559Z
UID:15747-1731747600-1731855600@www.therapiepunkt.de
SUMMARY:KGG Zertifikatskurs
DESCRIPTION:Inhouse Zertifikatskurs für „gerätegestützte Krankengymnastik“ (KGG) \nTeil 2 \nKursinhalte: \n\nAllgemeine Trainingsgrundlagen und Biomechanik\nAngewandte Trainings- und Bewegungslehre\nIndikationsspezifischer Einsatz von Trainingsgeräten
URL:https://www.therapiepunkt.de/events-online/kgg-zertifikatskurs-4-3/
LOCATION:therapiePUNKT Prinzregentenplatz
CATEGORIES:Interne Veranstaltungen
ATTACH;FMTTYPE=image/jpeg:https://www.therapiepunkt.de/wp-content/uploads/2021/12/physiotherapie-muenchen-therapiepunkt-tp-g-l03-2-e1729840452846.jpg
END:VEVENT
BEGIN:VEVENT
DTSTART;TZID=Europe/Berlin:20241116T090000
DTEND;TZID=Europe/Berlin:20241117T150000
DTSTAMP:20260419T151130
CREATED:20241024T104151Z
LAST-MODIFIED:20241024T104428Z
UID:15737-1731747600-1731855600@www.therapiepunkt.de
SUMMARY:KGG Zertifikatskurs
DESCRIPTION:Inhouse Zertifikatskurs für „gerätegestützte Krankengymnastik“ (KGG) \nTeil 2 \nKursinhalte: \n\nAllgemeine Trainingsgrundlagen und Biomechanik\nAngewandte Trainings- und Bewegungslehre\nIndikationsspezifischer Einsatz von Trainingsgeräten
URL:https://www.therapiepunkt.de/events-online/kgg-zertifikatskurs-4-2/
LOCATION:therapiePUNKT Prinzregentenplatz
ATTACH;FMTTYPE=image/jpeg:https://www.therapiepunkt.de/wp-content/uploads/2021/12/physiotherapie-muenchen-therapiepunkt-tp-g-l03-2-e1729840452846.jpg
END:VEVENT
BEGIN:VEVENT
DTSTART;TZID=Europe/Berlin:20241105T173000
DTEND;TZID=Europe/Berlin:20241105T194500
DTSTAMP:20260419T151130
CREATED:20240904T105049Z
LAST-MODIFIED:20240904T105049Z
UID:15262-1730827800-1730835900@www.therapiepunkt.de
SUMMARY:Winter-Yogakurs am Prinzregentenplatz
DESCRIPTION:Als idealer Wegbegleiter für\, während und nach deiner Physiotherapie bieten wir dir im therapiePUNKT Prinzregentenplatz eine tolle Möglichkeit an deinem Körper was Gutes zu tun. \nUnsere Yoga-Expertin Christina ist gleichzeitig Physiotherapeutin und kann dich damit optimal anleiten und in deiner Yoga-Praxis begleiten. \nDie Kursserie umfasst 6 Einheiten (wöchentlich\, immer Dienstags: 05.11\, 12.11\, 19.11\, 26.11\, 03.12\, 10.12). \nKurs 1: 17:30 bis 18:30 Uhr \nKurs 2: 18:45 bis 19:45 Uhr \nHinweis: Anmeldungen erfolgen über die Praxis oder per E-Mail an prinzregentenplatz@therapiepunkt.de \nEgal ob Anfänger oder Fortgeschrittene\, die Kurse bieten Dir die Möglichkeit\, in einer entspannten Atmosphäre Yoga zu praktizieren und den Alltagsstress hinter Dir zu lassen.
URL:https://www.therapiepunkt.de/events-online/yogakurs-am-prinzregentenplatz-2/2024-11-05/
LOCATION:therapiePUNKT Prinzregentenplatz
CATEGORIES:Achtsamkeit,Körperkunde,Prävention
ATTACH;FMTTYPE=image/jpeg:https://www.therapiepunkt.de/wp-content/uploads/2024/09/11c2779e-4e8b-4548-a608-fec109eeb2a8-e1725456679826.jpg
ORGANIZER;CN="Christina Andexer":MAILTO:schwabing@therapiepunkt.de
END:VEVENT
BEGIN:VEVENT
DTSTART;TZID=Europe/Berlin:20241102T090000
DTEND;TZID=Europe/Berlin:20241103T150000
DTSTAMP:20260419T151130
CREATED:20241025T071516Z
LAST-MODIFIED:20241025T071516Z
UID:15744-1730538000-1730646000@www.therapiepunkt.de
SUMMARY:KGG Zertifikatskurs
DESCRIPTION:Inhouse Zertifikatskurs für „gerätegestützte Krankengymnastik“ (KGG) \nTeil 1 \nKursinhalte: \n\nAllgemeine Trainingsgrundlagen und Biomechanik\nAngewandte Trainings- und Bewegungslehre\nIndikationsspezifischer Einsatz von Trainingsgeräten
URL:https://www.therapiepunkt.de/events-online/kgg-zertifikatskurs-4/
LOCATION:therapiePUNKT Prinzregentenplatz
CATEGORIES:Interne Veranstaltungen
ATTACH;FMTTYPE=image/jpeg:https://www.therapiepunkt.de/wp-content/uploads/2021/12/physiotherapie-muenchen-therapiepunkt-tp-g-l03-2-e1729840452846.jpg
END:VEVENT
BEGIN:VEVENT
DTSTART;TZID=Europe/Berlin:20241022T130000
DTEND;TZID=Europe/Berlin:20241022T140000
DTSTAMP:20260419T151130
CREATED:20241017T104413Z
LAST-MODIFIED:20241017T134424Z
UID:15641-1729602000-1729605600@www.therapiepunkt.de
SUMMARY:Interne Schulung: Blankoverordnung
DESCRIPTION:Zum Start der neuen „Blankoverordnung“ schulen unsere Experten das gesamte Team\, wie wir mit dieser Neuerung umgehen werden und wie bei uns eine kriterienbasierte Schulter-Reha geplant und durchgeführt wird.
URL:https://www.therapiepunkt.de/events-online/blankoverordnung1/
LOCATION:therapiePUNKT Prinzregentenplatz
CATEGORIES:Interne Veranstaltungen,Physiotherapie
ATTACH;FMTTYPE=image/jpeg:https://www.therapiepunkt.de/wp-content/uploads/2024/07/pexels-ketut-subiyanto-4623506-scaled.jpg
END:VEVENT
BEGIN:VEVENT
DTSTART;TZID=Europe/Berlin:20241015T125000
DTEND;TZID=Europe/Berlin:20241015T143000
DTSTAMP:20260419T151130
CREATED:20241031T093914Z
LAST-MODIFIED:20241031T093914Z
UID:15783-1728996600-1729002600@www.therapiepunkt.de
SUMMARY:Interne Fortbildung: "Die 321med RoadShow  - wir sind rund um die Uhr für unsere Patienten erreichbar..."
DESCRIPTION:Mit allen Belangen und so einfach wie per WhatsApp:\nWir schulen unsere Praxisorganisatorinnen in der Nutzung der online-Rezeption.\n\nWir freuen uns auf eure Teilnahme!
URL:https://www.therapiepunkt.de/events-online/321roadshow/
LOCATION:therapiePUNKT Prinzregentenplatz
CATEGORIES:Interne Veranstaltungen
ATTACH;FMTTYPE=image/jpeg:https://www.therapiepunkt.de/wp-content/uploads/2024/07/Kommunikationsworkshop-scaled.jpg
END:VEVENT
BEGIN:VEVENT
DTSTART;TZID=Europe/Berlin:20240910T173000
DTEND;TZID=Europe/Berlin:20240910T194500
DTSTAMP:20260419T151130
CREATED:20240904T104153Z
LAST-MODIFIED:20240904T133133Z
UID:15245-1725989400-1725997500@www.therapiepunkt.de
SUMMARY:Herbst-Yogakurs am Prinzregentenplatz
DESCRIPTION:Als idealer Wegbegleiter für\, während und nach deiner Physiotherapie bieten wir dir im therapiePUNKT Prinzregentenplatz eine tolle Möglichkeit an deinem Körper was Gutes zu tun. \nUnsere Yoga-Expertin Christina ist gleichzeitig Physiotherapeutin und kann dich damit optimal anleiten und in deiner Yoga-Praxis begleiten. \nDie Kursserie umfasst 6 Einheiten (wöchentlich\, immer Dienstags: 10.09\, 17.09\, 24.9\, 01.10\, 08.10\, 15.10). \nKurs 1: 17:30 bis 18:30 Uhr \nKurs 2: 18:45 bis 19:45 Uhr \nHinweis: Anmeldungen erfolgen über die Praxis oder per E-Mail an prinzregentenplatz@therapiepunkt.de \nEgal ob Anfänger oder Fortgeschrittene\, die Kurse bieten Dir die Möglichkeit\, in einer entspannten Atmosphäre Yoga zu praktizieren und den Alltagsstress hinter Dir zu lassen.
URL:https://www.therapiepunkt.de/events-online/yogakurs-am-prinzregentenplatz/2024-09-10/
LOCATION:therapiePUNKT Prinzregentenplatz
CATEGORIES:Achtsamkeit,Körperkunde,Prävention
ATTACH;FMTTYPE=image/jpeg:https://www.therapiepunkt.de/wp-content/uploads/2024/09/11c2779e-4e8b-4548-a608-fec109eeb2a8-e1725456679826.jpg
ORGANIZER;CN="Christina Andexer":MAILTO:schwabing@therapiepunkt.de
END:VEVENT
BEGIN:VEVENT
DTSTART;TZID=Europe/Berlin:20240207T100000
DTEND;TZID=Europe/Berlin:20240207T120000
DTSTAMP:20260419T151130
CREATED:20240127T083639Z
LAST-MODIFIED:20240127T083707Z
UID:12938-1707300000-1707307200@www.therapiepunkt.de
SUMMARY:Roadshow - Befund 2.0
DESCRIPTION:In dieser Roadshow werden die Standorte zu unseren neuen\, optimierten & digitalen Abläufen geschult. Vom perfekten Onboarding-Prozess bis hin zur zielführenden Patientenkommunikation erhalten die Praxis-Teams alle Informationen für eine optimale Patientenversorgung.
URL:https://www.therapiepunkt.de/events-online/roadshow-befund-2-0-3/
LOCATION:therapiePUNKT Prinzregentenplatz
CATEGORIES:Interne Veranstaltungen
ATTACH;FMTTYPE=image/jpeg:https://www.therapiepunkt.de/wp-content/uploads/2024/01/dylan-gillis-KdeqA3aTnBY-unsplash-scaled-e1706343995382.jpg
END:VEVENT
BEGIN:VEVENT
DTSTART;TZID=Europe/Berlin:20230425T184500
DTEND;TZID=Europe/Berlin:20230425T194500
DTSTAMP:20260419T151130
CREATED:20230315T044658Z
LAST-MODIFIED:20230316T082035Z
UID:9908-1682448300-1682451900@www.therapiepunkt.de
SUMMARY:Physio-Yoga Prinzregentenplatz
DESCRIPTION:Als idealer Wegbegleiter für\, während und nach Ihrer Physiotherapie bieten wir Ihnen ab sofort in verschiedenen therapiePUNKT-Standorten Yoga-Kurse an. \nUnsere Yoga-Expertin Christina ist gleichzeitig Physiotherapeutin und kann Sie damit optimal anleiten und in Ihrer Yoga-Praxis begleiten. \nDie Kursserie umfasst 10 Einheiten (wöchentlich\, immer Dienstags). \nHinweis: Anmeldungen erfolgen über die Praxis oder per E-Mail an info@therapiepunkt.de
URL:https://www.therapiepunkt.de/events-online/physio-yoga-prinzregentenplatz-2/
LOCATION:therapiePUNKT Prinzregentenplatz
CATEGORIES:Achtsamkeit,Körperkunde,Physiotherapie,Prävention
ATTACH;FMTTYPE=image/jpeg:https://www.therapiepunkt.de/wp-content/uploads/2023/03/Yoga-mit-Christina-Andechser_16-03-23-e1678954824651.jpg
ORGANIZER;CN="Christina Andexer":MAILTO:schwabing@therapiepunkt.de
END:VEVENT
BEGIN:VEVENT
DTSTART;TZID=Europe/Berlin:20230222T113000
DTEND;TZID=Europe/Berlin:20230222T133000
DTSTAMP:20260419T151130
CREATED:20230112T085550Z
LAST-MODIFIED:20230123T140333Z
UID:8773-1677065400-1677072600@www.therapiepunkt.de
SUMMARY:therapiePUNKT goes digital - Schulungen
DESCRIPTION:Wir werden vollständig digital. Aushändigung der persönlichen tablets & Einweisung in unsere neuen digitalen Prozesse pro Standort. \nDiese Veranstaltung ist exklusiv für Mitarbeiter von therapiePUNKT.
URL:https://www.therapiepunkt.de/events-online/digital-schulungen-2-2-2/
LOCATION:therapiePUNKT Prinzregentenplatz
CATEGORIES:Interne Veranstaltungen
ATTACH;FMTTYPE=image/jpeg:https://www.therapiepunkt.de/wp-content/uploads/2023/01/Digitalisierung-Tablet.jpg
END:VEVENT
BEGIN:VEVENT
DTSTART;TZID=Europe/Berlin:20230216T183000
DTEND;TZID=Europe/Berlin:20230216T193000
DTSTAMP:20260419T151130
CREATED:20230209T150638Z
LAST-MODIFIED:20230209T152517Z
UID:9491-1676572200-1676575800@www.therapiepunkt.de
SUMMARY:Physio-Yoga Prinzregentenplatz
DESCRIPTION:Als idealer Wegbegleiter für\, während und nach Ihrer Physiotherapie bieten wir Ihnen ab sofort in verschiedenen therapiePUNKT-Standorten Yoga-Kurse an. \nUnsere Yoga-Expertin Christina ist gleichzeitig Physiotherapeutin und kann Sie damit optimal anleiten und in Ihrer Yoga-Praxis begleiten. \nDie Kursserie umfasst 8 Einheiten (wöchentl.\, immer Donnerstags). \nHinweis: Anmeldungen erfolgen über die Praxis oder per E-Mail an info@therapiepunkt.de
URL:https://www.therapiepunkt.de/events-online/physio-yoga-prinzregentenplatz/
LOCATION:therapiePUNKT Prinzregentenplatz
CATEGORIES:Achtsamkeit,Körperkunde,Physiotherapie,Prävention
ATTACH;FMTTYPE=image/png:https://www.therapiepunkt.de/wp-content/uploads/2023/02/Christina-1.png
ORGANIZER;CN="Christina Andexer":MAILTO:schwabing@therapiepunkt.de
END:VEVENT
BEGIN:VEVENT
DTSTART;TZID=Europe/Berlin:20230212T090000
DTEND;TZID=Europe/Berlin:20230212T180000
DTSTAMP:20260419T151130
CREATED:20220411T084207Z
LAST-MODIFIED:20220816T103843Z
UID:6191-1676192400-1676224800@www.therapiepunkt.de
SUMMARY:KGG-Zertifikatskurs Teil 2
DESCRIPTION:Alle externen Interessenten melden sich bitte direkt über den Deutschen Verband für Physiotherapie an. \nAlle therapiePUNKT Mitarbeiter\, die Interesse an dem KGG-Zertifikatskurs Teil 2 haben\, melden sich bitte unter gesundheit@therapiepunkt.de in der Zentrale. \nHinweis: Der KGG Zertifikatskurs besteht aus insgesamt 4 Ausbildungstagen (an 2 Wochenenden).
URL:https://www.therapiepunkt.de/events-online/kgg-zertifikatskurs-2-3-2/
LOCATION:therapiePUNKT Prinzregentenplatz
CATEGORIES:Physiotherapie
ATTACH;FMTTYPE=image/jpeg:https://www.therapiepunkt.de/wp-content/uploads/2021/04/Zertifikatskurs-KGG.jpg
END:VEVENT
BEGIN:VEVENT
DTSTART;TZID=Europe/Berlin:20230211T090000
DTEND;TZID=Europe/Berlin:20230211T180000
DTSTAMP:20260419T151130
CREATED:20220411T083738Z
LAST-MODIFIED:20220816T103909Z
UID:6190-1676106000-1676138400@www.therapiepunkt.de
SUMMARY:KGG-Zertifikatskurs Teil 2
DESCRIPTION:Alle externen Interessenten melden sich bitte direkt über den Deutschen Verband für Physiotherapie an. \nAlle therapiePUNKT Mitarbeiter\, die Interesse an dem KGG-Zertifikatskurs Teil 2 haben\, melden sich bitte unter gesundheit@therapiepunkt.de in der Zentrale. \nHinweis: Der KGG Zertifikatskurs besteht aus insgesamt 4 Ausbildungstagen (an 2 Wochenenden).
URL:https://www.therapiepunkt.de/events-online/kgg-zertifikatskurs-3/
LOCATION:therapiePUNKT Prinzregentenplatz
CATEGORIES:Physiotherapie
ATTACH;FMTTYPE=image/jpeg:https://www.therapiepunkt.de/wp-content/uploads/2021/04/Zertifikatskurs-KGG.jpg
END:VEVENT
BEGIN:VEVENT
DTSTART;TZID=Europe/Berlin:20230129T090000
DTEND;TZID=Europe/Berlin:20230129T180000
DTSTAMP:20260419T151130
CREATED:20220411T084407Z
LAST-MODIFIED:20220816T103817Z
UID:6193-1674982800-1675015200@www.therapiepunkt.de
SUMMARY:KGG-Zertifikatskurs Teil 1
DESCRIPTION:Alle externen Interessenten melden sich bitte direkt über den Deutschen Verband für Physiotherapie an. \nAlle therapiePUNKT Mitarbeiter\, die Interesse an dem KGG-Zertifikatskurs Teil 1 haben\, melden sich bitte unter gesundheit@therapiepunkt.de in der Zentrale. \nHinweis: Der KGG Zertifikatskurs besteht aus insgesamt 4 Ausbildungstagen (an 2 Wochenenden).
URL:https://www.therapiepunkt.de/events-online/kgg-zertifikatskurs-2-2-2-2/
LOCATION:therapiePUNKT Prinzregentenplatz
CATEGORIES:Physiotherapie
ATTACH;FMTTYPE=image/jpeg:https://www.therapiepunkt.de/wp-content/uploads/2021/04/Zertifikatskurs-KGG.jpg
END:VEVENT
BEGIN:VEVENT
DTSTART;TZID=Europe/Berlin:20230128T090000
DTEND;TZID=Europe/Berlin:20230128T180000
DTSTAMP:20260419T151130
CREATED:20220411T084302Z
LAST-MODIFIED:20220816T103732Z
UID:6192-1674896400-1674928800@www.therapiepunkt.de
SUMMARY:KGG-Zertifikatskurs Teil 1
DESCRIPTION:Alle externen Interessenten melden sich bitte direkt über den Deutschen Verband für Physiotherapie an. \nAlle therapiePUNKT Mitarbeiter\, die Interesse an dem KGG-Zertifikatskurs Teil 1 haben\, melden sich bitte unter gesundheit@therapiepunkt.de in der Zentrale. \nHinweis: Der KGG Zertifikatskurs besteht aus insgesamt 4 Ausbildungstagen (an 2 Wochenenden).
URL:https://www.therapiepunkt.de/events-online/kgg-zertifikatskurs-2-2-3/
LOCATION:therapiePUNKT Prinzregentenplatz
CATEGORIES:Physiotherapie
ATTACH;FMTTYPE=image/jpeg:https://www.therapiepunkt.de/wp-content/uploads/2021/04/Zertifikatskurs-KGG.jpg
END:VEVENT
BEGIN:VEVENT
DTSTART;TZID=Europe/Berlin:20220511T140000
DTEND;TZID=Europe/Berlin:20220511T180000
DTSTAMP:20260419T151130
CREATED:20220403T013637Z
LAST-MODIFIED:20220403T021330Z
UID:6140-1652277600-1652292000@www.therapiepunkt.de
SUMMARY:therapiePUNKT Qualitätsprozesse I Basis-Workshop
DESCRIPTION:Diese Veranstaltung ist exklusiv für Mitarbeiter von therapiePUNKT und healthloft.
URL:https://www.therapiepunkt.de/events-online/workshop-qualitaetsprozesse-projektorganisation-2-2-2-2/
LOCATION:therapiePUNKT Prinzregentenplatz
CATEGORIES:Interne Veranstaltungen
ATTACH;FMTTYPE=image/jpeg:https://www.therapiepunkt.de/wp-content/uploads/2021/04/Standort-Fortbildung.jpg
END:VEVENT
BEGIN:VEVENT
DTSTART;TZID=Europe/Berlin:20220511T113000
DTEND;TZID=Europe/Berlin:20220511T130000
DTSTAMP:20260419T151130
CREATED:20211220T144600Z
LAST-MODIFIED:20220403T020843Z
UID:4359-1652268600-1652274000@www.therapiepunkt.de
SUMMARY:Interne Fortbildung: KGG - Beeinträchtigungstraining
DESCRIPTION:Diese Veranstaltung ist exklusiv für Mitarbeiter vom therapiePUNKT.
URL:https://www.therapiepunkt.de/events-online/interne-fortbildung-kgg-beeintraechtigungstraining/
LOCATION:therapiePUNKT Prinzregentenplatz
CATEGORIES:Interne Veranstaltungen,Physiotherapie
ATTACH;FMTTYPE=image/jpeg:https://www.therapiepunkt.de/wp-content/uploads/2021/04/Standort-Fortbildung.jpg
END:VEVENT
BEGIN:VEVENT
DTSTART;TZID=Europe/Berlin:20220313T090000
DTEND;TZID=Europe/Berlin:20220313T180000
DTSTAMP:20260419T151130
CREATED:20211109T082836Z
LAST-MODIFIED:20220311T135513Z
UID:3923-1647162000-1647194400@www.therapiepunkt.de
SUMMARY:KGG-Zertifikatskurs Teil 2
DESCRIPTION:Alle externen Interessenten melden sich bitte direkt über die ZVK an. \nAlle therapiePUNKT Mitarbeiter\, die Interesse an dem KGG-Zertifikatskurs Teil 2 haben\, melden sich bitte unter gesundheit@therapiepunkt.de in der Zentrale.
URL:https://www.therapiepunkt.de/events-online/kgg-zertifikatskurs-2-2-2/
LOCATION:therapiePUNKT Prinzregentenplatz
CATEGORIES:Interne Veranstaltungen
ATTACH;FMTTYPE=image/jpeg:https://www.therapiepunkt.de/wp-content/uploads/2021/04/Zertifikatskurs-KGG.jpg
END:VEVENT
BEGIN:VEVENT
DTSTART;TZID=Europe/Berlin:20220312T090000
DTEND;TZID=Europe/Berlin:20220312T180000
DTSTAMP:20260419T151130
CREATED:20211109T082740Z
LAST-MODIFIED:20220311T135443Z
UID:3921-1647075600-1647108000@www.therapiepunkt.de
SUMMARY:KGG-Zertifikatskurs Teil 2
DESCRIPTION:Alle externen Interessenten melden sich bitte direkt über die ZVK an. \nAlle therapiePUNKT Mitarbeiter\, die Interesse an dem KGG-Zertifikatskurs Teil 2 haben\, melden sich bitte unter gesundheit@therapiepunkt.de in der Zentrale.
URL:https://www.therapiepunkt.de/events-online/kgg-zertifikatskurs-2-2/
LOCATION:therapiePUNKT Prinzregentenplatz
CATEGORIES:Interne Veranstaltungen
ATTACH;FMTTYPE=image/jpeg:https://www.therapiepunkt.de/wp-content/uploads/2021/04/Zertifikatskurs-KGG.jpg
END:VEVENT
BEGIN:VEVENT
DTSTART;TZID=Europe/Berlin:20220302T113000
DTEND;TZID=Europe/Berlin:20220302T130000
DTSTAMP:20260419T151130
CREATED:20220201T102313Z
LAST-MODIFIED:20220406T065439Z
UID:5620-1646220600-1646226000@www.therapiepunkt.de
SUMMARY:Interne Fortbildung: Erste-Hilfe-Kurs
DESCRIPTION:
URL:https://www.therapiepunkt.de/events-online/interne-fortbildung-erste-hilfe-kurs-2/
LOCATION:therapiePUNKT Prinzregentenplatz
CATEGORIES:Interne Veranstaltungen,Körperkunde
ATTACH;FMTTYPE=image/jpeg:https://www.therapiepunkt.de/wp-content/uploads/2021/12/doctor-g86eb29159_1920-e1648137112582.jpg
END:VEVENT
BEGIN:VEVENT
DTSTART;TZID=Europe/Berlin:20220223T113000
DTEND;TZID=Europe/Berlin:20220223T130000
DTSTAMP:20260419T151130
CREATED:20211220T120749Z
LAST-MODIFIED:20220218T092538Z
UID:4308-1645615800-1645621200@www.therapiepunkt.de
SUMMARY:Interne Fortbildung: Safety Tests für die Halswirbelsäule (anerkannte Sicherheitstests zur klinischen Überprüfung einer möglichen Instabilität oder Durchblutungsstörung in der Halswirbelsäule)“
DESCRIPTION:Diese Veranstaltung ist exklusiv für Mitarbeiter vom therapiePUNKT.
URL:https://www.therapiepunkt.de/events-online/interne-fortbildung-diskussion-ueber-hybride-therapiemethoden-apps-in-der-pt/
LOCATION:therapiePUNKT Prinzregentenplatz
CATEGORIES:Interne Veranstaltungen
ATTACH;FMTTYPE=image/jpeg:https://www.therapiepunkt.de/wp-content/uploads/2021/04/Standort-Fortbildung.jpg
END:VEVENT
BEGIN:VEVENT
DTSTART;TZID=Europe/Berlin:20220220T090000
DTEND;TZID=Europe/Berlin:20220220T180000
DTSTAMP:20260419T151130
CREATED:20211109T082502Z
LAST-MODIFIED:20220127T082342Z
UID:3919-1645347600-1645380000@www.therapiepunkt.de
SUMMARY:KGG-Zertifikatskurs Teil 1
DESCRIPTION:Alle externen Interessenten melden sich bitte direkt über die ZVK an. \nAlle therapiePUNKT Mitarbeiter\, die Interesse an dem KGG-Zertifikatskurs Teil 1 haben\, melden sich bitte unter gesundheit@therapiepunkt.de in der Zentrale.
URL:https://www.therapiepunkt.de/events-online/kgg-zertifikatskurs-2/
LOCATION:therapiePUNKT Prinzregentenplatz
ATTACH;FMTTYPE=image/jpeg:https://www.therapiepunkt.de/wp-content/uploads/2021/04/Zertifikatskurs-KGG.jpg
END:VEVENT
BEGIN:VEVENT
DTSTART;TZID=Europe/Berlin:20220219T090000
DTEND;TZID=Europe/Berlin:20220219T180000
DTSTAMP:20260419T151130
CREATED:20211109T081922Z
LAST-MODIFIED:20220127T082033Z
UID:3916-1645261200-1645293600@www.therapiepunkt.de
SUMMARY:KGG-Zertifikatskurs Teil 1
DESCRIPTION:Alle externen Interessenten melden sich bitte direkt über die ZVK an. \nAlle therapiePUNKT Mitarbeiter\, die Interesse an dem KGG-Zertifikatskurs Teil 1 haben\, melden sich bitte unter gesundheit@therapiepunkt.de in der Zentrale.
URL:https://www.therapiepunkt.de/events-online/kgg-zertifikatskurs/
LOCATION:therapiePUNKT Prinzregentenplatz
ATTACH;FMTTYPE=image/jpeg:https://www.therapiepunkt.de/wp-content/uploads/2021/04/Zertifikatskurs-KGG.jpg
END:VEVENT
BEGIN:VEVENT
DTSTART;TZID=Europe/Berlin:20220218T100000
DTEND;TZID=Europe/Berlin:20220218T140000
DTSTAMP:20260419T151130
CREATED:20220216T093637Z
LAST-MODIFIED:20220216T100321Z
UID:5809-1645178400-1645192800@www.therapiepunkt.de
SUMMARY:Workshop: tp Basisprozesse
DESCRIPTION:Inhalte dieses Workshops sind: \n\nGrundsätzliche Einführung in die organisatorischen Qualitätsprozesse & Standardprozesse\nZusammenarbeit Rezeption und Therapeut:\n\nWer hat welche Aufgabe?\nVerantwortung der Dokumente\nWer ist für welche Unterschrift verantwortlich?\n\n\nDienstleistung:\n\nWie gehe ich mit dem Patienten um?\nWie spreche ich mit ihm?\nWie hole ich ihn ab?\nGesprächsführung\n\n\n\nWie arbeiten wir als Team? \n\nWas sind unsere Qualitätsansprüche?\nWas sagt unser „Mission Statement“ aus?\nHow to become „Customer Centric“
URL:https://www.therapiepunkt.de/events-online/workshop-tp-basisprozesse/
LOCATION:therapiePUNKT Prinzregentenplatz
CATEGORIES:Interne Veranstaltungen
ATTACH;FMTTYPE=image/jpeg:https://www.therapiepunkt.de/wp-content/uploads/2022/02/Business-people-meeting-at-office-and-use-post-it-notes-to-share-idea.-Brainstorming-concept.-Sticky-note-on-glass-wall.-scaled.jpg
END:VEVENT
BEGIN:VEVENT
DTSTART;TZID=Europe/Berlin:20211220T080000
DTEND;TZID=Europe/Berlin:20211220T170000
DTSTAMP:20260419T151130
CREATED:20220117T120158Z
LAST-MODIFIED:20220117T120158Z
UID:4330-1639987200-1640019600@www.therapiepunkt.de
SUMMARY:Standortübergreifende Fortbildung: AASK Schultergelenk - OP-Techniken der Schulter und die Nachversorgung
DESCRIPTION:Diese Veranstaltung ist exklusiv für Mitarbeiter vom therapiePUNKT.
URL:https://www.therapiepunkt.de/events-online/standortuebergreifende-fortbildung-aask-schultergelenk-op-techniken-der-schulter-und-die-nachversorgung/
LOCATION:therapiePUNKT Prinzregentenplatz
CATEGORIES:Interne Veranstaltungen
ATTACH;FMTTYPE=image/jpeg:https://www.therapiepunkt.de/wp-content/uploads/2021/04/Standort-Fortbildung.jpg
END:VEVENT
BEGIN:VEVENT
DTSTART;TZID=Europe/Berlin:20211124T120000
DTEND;TZID=Europe/Berlin:20211124T133000
DTSTAMP:20260419T151130
CREATED:20210427T090052Z
LAST-MODIFIED:20211018T104150Z
UID:2714-1637755200-1637760600@www.therapiepunkt.de
SUMMARY:Englisch im Praxisalltag
DESCRIPTION:
URL:https://www.therapiepunkt.de/events-online/kgg-fortsetzung-q2/
LOCATION:therapiePUNKT Prinzregentenplatz
CATEGORIES:Interne Veranstaltungen
ATTACH;FMTTYPE=image/jpeg:https://www.therapiepunkt.de/wp-content/uploads/2021/04/Standort-Fortbildung.jpg
END:VEVENT
BEGIN:VEVENT
DTSTART;TZID=Europe/Berlin:20211120T090000
DTEND;TZID=Europe/Berlin:20211120T120000
DTSTAMP:20260419T151130
CREATED:20211011T074933Z
LAST-MODIFIED:20211118T153046Z
UID:3598-1637398800-1637409600@www.therapiepunkt.de
SUMMARY:Kostenloser Aktiv - Tag: "Mit Bluthochdruck bewusst Sport treiben"
DESCRIPTION:Abgesagt! \n  \nWir freuen uns\, Sie am Samstag\, den 20.11.2021 von 9-12 Uhr zum kostenlosen Aktiv-Tag in der Physiotherapie-Praxis therapiePUNKT im Prinzregentenplatz begrüßen zu dürfen. Dieser findet im Rahmen der Herzwochen der Deutschen Herzstiftung statt. \nHaben Sie keine Sorge\, unsere Therapeuten gehen auf Ihr individuelles Leistungsniveau ein und betreuen Sie im Trainingsverlauf durchgehend. Profitieren Sie von der Möglichkeit\, ein kostenloses\, angeleitetes und motivierendes Bewegungsangebot in einer Gruppe Gleichgesinnter zu erleben. \nInvestieren Sie ein bisschen Zeit in Ihre Gesundheit – sie kann Ihr Leben verändern. \nErleben Sie unter Anleitung unserer erfahrenen therapiePUNKT Physiotherapeuten: \n\neine Einführung in das Monitoring Ihres Blutdrucks vor\, während und nach dem Training\nAerobes Training (30-45 Min; Intervall und Dauermethode)\nDynamische Widerstandsübungen (30-45 Min)\nNordic Walking (3km\, im Freien)\n\nBitte kommen Sie in bequemer Kleidung bzw. Sportkleidung (mit windfester Jacke für das Outdoor-Training) und bringen Sie gerne Ihre bereits vorhandenen Messgeräte zum Training mit. Was Sie sonst noch benötigen? Neugierde und Vorfreude! \nIhre Experten vor Ort: \n\nMarco Stahn\nElena Fechner\nBarbara Kochmann
URL:https://www.therapiepunkt.de/events-online/kostenloser-aktiv-tag-bewegung-und-blutdruck-ein-widerspruch-2-2/
LOCATION:therapiePUNKT Prinzregentenplatz
ATTACH;FMTTYPE=image/png:https://www.therapiepunkt.de/wp-content/uploads/2021/10/Ohne-Titel-2.png
END:VEVENT
BEGIN:VEVENT
DTSTART;TZID=Europe/Berlin:20210930T110000
DTEND;TZID=Europe/Berlin:20210930T130000
DTSTAMP:20260419T151130
CREATED:20210726T155339Z
LAST-MODIFIED:20210825T181747Z
UID:3135-1632999600-1633006800@www.therapiepunkt.de
SUMMARY:Workshop: Refresher tP Qualitätsprozesse
DESCRIPTION:Inhalte: \n\nBest practice in der Patienten-Beratung\nHow to become “Trusted Advisor”\n\nVoraussetzung:\nVorherige Teilnahme an tP Qualitätsprozesse Basis (ca. 3-6 Monate zuvor)
URL:https://www.therapiepunkt.de/events-online/workshop-refresher-tp-qualitaetsprozesse-6-2/
LOCATION:therapiePUNKT Prinzregentenplatz
CATEGORIES:Interne Veranstaltungen
ATTACH;FMTTYPE=image/jpeg:https://www.therapiepunkt.de/wp-content/uploads/2021/04/shutterstock_1315576370.jpg
END:VEVENT
END:VCALENDAR