BEGIN:VCALENDAR
VERSION:2.0
PRODID:-//Physiotherapie München | TherapiePUNKT - ECPv6.15.20//NONSGML v1.0//EN
CALSCALE:GREGORIAN
METHOD:PUBLISH
X-WR-CALNAME:Physiotherapie München | TherapiePUNKT
X-ORIGINAL-URL:https://www.therapiepunkt.de
X-WR-CALDESC:Veranstaltungen für Physiotherapie München | TherapiePUNKT
REFRESH-INTERVAL;VALUE=DURATION:PT1H
X-Robots-Tag:noindex
X-PUBLISHED-TTL:PT1H
BEGIN:VTIMEZONE
TZID:Europe/Berlin
BEGIN:DAYLIGHT
TZOFFSETFROM:+0100
TZOFFSETTO:+0200
TZNAME:CEST
DTSTART:20210328T010000
END:DAYLIGHT
BEGIN:STANDARD
TZOFFSETFROM:+0200
TZOFFSETTO:+0100
TZNAME:CET
DTSTART:20211031T010000
END:STANDARD
BEGIN:DAYLIGHT
TZOFFSETFROM:+0100
TZOFFSETTO:+0200
TZNAME:CEST
DTSTART:20220327T010000
END:DAYLIGHT
BEGIN:STANDARD
TZOFFSETFROM:+0200
TZOFFSETTO:+0100
TZNAME:CET
DTSTART:20221030T010000
END:STANDARD
BEGIN:DAYLIGHT
TZOFFSETFROM:+0100
TZOFFSETTO:+0200
TZNAME:CEST
DTSTART:20230326T010000
END:DAYLIGHT
BEGIN:STANDARD
TZOFFSETFROM:+0200
TZOFFSETTO:+0100
TZNAME:CET
DTSTART:20231029T010000
END:STANDARD
END:VTIMEZONE
BEGIN:VEVENT
DTSTART;TZID=Europe/Berlin:20220209T153000
DTEND;TZID=Europe/Berlin:20220209T170000
DTSTAMP:20260420T042427
CREATED:20211220T113035Z
LAST-MODIFIED:20220201T112220Z
UID:4288-1644420600-1644426000@www.therapiepunkt.de
SUMMARY:Standortübergreifende Fortbildung: Elektrotherapie in der Praxis - es gibt noch mehr als TENS und US
DESCRIPTION:Diese Veranstaltung ist exklusiv für Mitarbeiter vom therapiePUNKT.
URL:https://www.therapiepunkt.de/events-online/interne-fortbildung-elektrotherapie-in-der-praxis-es-gibt-noch-mehr-als-tens-und-us/
LOCATION:therapiePUNKT Heimstetten
CATEGORIES:Interne Veranstaltungen
ATTACH;FMTTYPE=image/jpeg:https://www.therapiepunkt.de/wp-content/uploads/2021/04/Standort-Fortbildung.jpg
END:VEVENT
END:VCALENDAR