BEGIN:VCALENDAR
VERSION:2.0
PRODID:-//Physiotherapie München | TherapiePUNKT - ECPv6.15.20//NONSGML v1.0//EN
CALSCALE:GREGORIAN
METHOD:PUBLISH
X-WR-CALNAME:Physiotherapie München | TherapiePUNKT
X-ORIGINAL-URL:https://www.therapiepunkt.de
X-WR-CALDESC:Veranstaltungen für Physiotherapie München | TherapiePUNKT
REFRESH-INTERVAL;VALUE=DURATION:PT1H
X-Robots-Tag:noindex
X-PUBLISHED-TTL:PT1H
BEGIN:VTIMEZONE
TZID:Europe/Berlin
BEGIN:DAYLIGHT
TZOFFSETFROM:+0100
TZOFFSETTO:+0200
TZNAME:CEST
DTSTART:20210328T010000
END:DAYLIGHT
BEGIN:STANDARD
TZOFFSETFROM:+0200
TZOFFSETTO:+0100
TZNAME:CET
DTSTART:20211031T010000
END:STANDARD
BEGIN:DAYLIGHT
TZOFFSETFROM:+0100
TZOFFSETTO:+0200
TZNAME:CEST
DTSTART:20220327T010000
END:DAYLIGHT
BEGIN:STANDARD
TZOFFSETFROM:+0200
TZOFFSETTO:+0100
TZNAME:CET
DTSTART:20221030T010000
END:STANDARD
BEGIN:DAYLIGHT
TZOFFSETFROM:+0100
TZOFFSETTO:+0200
TZNAME:CEST
DTSTART:20230326T010000
END:DAYLIGHT
BEGIN:STANDARD
TZOFFSETFROM:+0200
TZOFFSETTO:+0100
TZNAME:CET
DTSTART:20231029T010000
END:STANDARD
END:VTIMEZONE
BEGIN:VEVENT
DTSTART;TZID=Europe/Berlin:20220406T113000
DTEND;TZID=Europe/Berlin:20220406T130000
DTSTAMP:20260419T190703
CREATED:20211220T124922Z
LAST-MODIFIED:20220325T105232Z
UID:4332-1649244600-1649250000@www.therapiepunkt.de
SUMMARY:Interne Fortbildung: HMR - die wichtigsten Regeln\, Fristen\, Basics und Abrechnungsprozesse
DESCRIPTION:Diese Veranstaltung ist exklusiv für Mitarbeiter vom therapiePUNKT.
URL:https://www.therapiepunkt.de/events-online/interne-fortbildung-hmr-die-wichtigsten-regeln-fristen-basics-und-abrechnungsprozesse/
LOCATION:therapiePUNKT Oberföhring
CATEGORIES:Interne Veranstaltungen,Physiotherapie
ATTACH;FMTTYPE=image/jpeg:https://www.therapiepunkt.de/wp-content/uploads/2021/04/Standort-Fortbildung.jpg
END:VEVENT
BEGIN:VEVENT
DTSTART;TZID=Europe/Berlin:20220406T143000
DTEND;TZID=Europe/Berlin:20220406T160000
DTSTAMP:20260419T190703
CREATED:20211220T145647Z
LAST-MODIFIED:20220403T020307Z
UID:4372-1649255400-1649260800@www.therapiepunkt.de
SUMMARY:Interne Fortbildung: Beckenboden
DESCRIPTION:Diese Veranstaltung ist exklusiv für Mitarbeiter vom therapiePUNKT.
URL:https://www.therapiepunkt.de/events-online/interne-fortbildung-beckenboden/
LOCATION:therapiePUNKT Heimstetten
CATEGORIES:Interne Veranstaltungen,Körperkunde,Physiotherapie
ATTACH;FMTTYPE=image/jpeg:https://www.therapiepunkt.de/wp-content/uploads/2021/04/Standort-Fortbildung.jpg
END:VEVENT
BEGIN:VEVENT
DTSTART;TZID=Europe/Berlin:20220406T180000
DTEND;TZID=Europe/Berlin:20220406T200000
DTSTAMP:20260419T190703
CREATED:20220209T100225Z
LAST-MODIFIED:20220329T140901Z
UID:5697-1649268000-1649275200@www.therapiepunkt.de
SUMMARY:Kreuzband - Anatomie\, Pathomechanismus\, OP vs. Konservative Behandlung I standortübergreifende Fortbildung
DESCRIPTION:Nachbehandlung mit MT Techniken zur Mobilisation und Übungen für die spätere Rehaphase inklusive Return to Activity\, Return to Sports und Return to Competition.
URL:https://www.therapiepunkt.de/events-online/standortuebergreifende-fortbildung-kreuzband-anatomie-pathomechanismus-op-vs-konservative-behandlung/
LOCATION:therapiePUNKT Fürstenfeldbruck
CATEGORIES:Interne Veranstaltungen
ATTACH;FMTTYPE=image/jpeg:https://www.therapiepunkt.de/wp-content/uploads/2021/04/Standort-Fortbildung.jpg
END:VEVENT
BEGIN:VEVENT
DTSTART;TZID=Europe/Berlin:20220407T120000
DTEND;TZID=Europe/Berlin:20220407T124500
DTSTAMP:20260419T190703
CREATED:20211214T091055Z
LAST-MODIFIED:20220325T105653Z
UID:4190-1649332800-1649335500@www.therapiepunkt.de
SUMMARY:Webinar: Sonne satt - Vorsorge für dich und deine Haut
DESCRIPTION:Unsere Haut kann sehr empfindlich sein und benötigt daher die richtige Pflege. Bei den vielen verschiedenen Angeboten und Empfehlungen auf dem Markt verliert man schnell mal den Überblick. In unserem Webinar schaffen wir Klarheit rund um das Thema einer gesunden Haut. \nInhalte dieses Events sind: \n\nWas macht eine gesunde Haut aus\nOptimale Vorsorge beim Sport\nTipps zur Selbstanwendung\n\nSie können Ihr Event gerne über Paypal bezahlen. Sollten Sie kein Konto bei diesem Anbieter haben\, melden Sie sich gerne unter gesundheit@therapiepunkt.de bei uns. \nDiese Veranstaltung ist für alle Mitarbeiter von therapiePUNKT und healthloft kostenfrei! Die kostenfreie Anmeldung für Mitarbeiter ist über gesundheit@therapiepunkt.de möglich.
URL:https://www.therapiepunkt.de/events-online/sonne-satt-vorsorge-fuer-dich-und-deine-haut-2/
LOCATION:Online
CATEGORIES:Achtsamkeit,Expertenforen,Körperkunde,Prävention
ATTACH;FMTTYPE=image/jpeg:https://www.therapiepunkt.de/wp-content/uploads/2021/12/sun-g1f8ab4d8c_1920.jpg
END:VEVENT
BEGIN:VEVENT
DTSTART;TZID=Europe/Berlin:20220408T140000
DTEND;TZID=Europe/Berlin:20220408T180000
DTSTAMP:20260419T190703
CREATED:20220403T013346Z
LAST-MODIFIED:20220403T021121Z
UID:6138-1649426400-1649440800@www.therapiepunkt.de
SUMMARY:therapiePUNKT Qualitätsprozesse I Basis-Workshop
DESCRIPTION:Diese Veranstaltung ist exklusiv für Mitarbeiter von therapiePUNKT und healthloft.
URL:https://www.therapiepunkt.de/events-online/workshop-qualitaetsprozesse-projektorganisation-2-2-2/
LOCATION:therapiePUNKT Fürstenfeldbruck
CATEGORIES:Interne Veranstaltungen
ATTACH;FMTTYPE=image/jpeg:https://www.therapiepunkt.de/wp-content/uploads/2021/04/Standort-Fortbildung.jpg
END:VEVENT
BEGIN:VEVENT
DTSTART;TZID=Europe/Berlin:20220419T120000
DTEND;TZID=Europe/Berlin:20220419T130000
DTSTAMP:20260419T190703
CREATED:20211220T125216Z
LAST-MODIFIED:20220324T162258Z
UID:4335-1650369600-1650373200@www.therapiepunkt.de
SUMMARY:Interne Fortbildung: Funktionelle Untersuchungen
DESCRIPTION:Diese Veranstaltung ist exklusiv für Mitarbeiter vom therapiePUNKT.
URL:https://www.therapiepunkt.de/events-online/interne-fortbildung-funktionelle-untersuchungen/
LOCATION:therapiePUNKT Olching
CATEGORIES:Interne Veranstaltungen
ATTACH;FMTTYPE=image/jpeg:https://www.therapiepunkt.de/wp-content/uploads/2021/04/Standort-Fortbildung.jpg
END:VEVENT
BEGIN:VEVENT
DTSTART;TZID=Europe/Berlin:20220427T160000
DTEND;TZID=Europe/Berlin:20220427T173000
DTSTAMP:20260419T190703
CREATED:20211220T125618Z
LAST-MODIFIED:20220406T065052Z
UID:4339-1651075200-1651080600@www.therapiepunkt.de
SUMMARY:*** Achtung: Terminverschiebung *** Medikamente - Ausprägungen und Wirkungsweisen I Standortübergreifende Fortbildung
DESCRIPTION:Diese Veranstaltung ist exklusiv für therapiePUNKT Mitarbeiter.
URL:https://www.therapiepunkt.de/events-online/standortuebergreifende-fortbildung-medikamente-auspraegungen-und-wirkungsweisen/
LOCATION:therapiePUNKT Glockenbachviertel\, München City & Werksviertel
CATEGORIES:Interne Veranstaltungen,Körperkunde,Physiotherapie,Prävention
ATTACH;FMTTYPE=image/jpeg:https://www.therapiepunkt.de/wp-content/uploads/2021/04/Standort-Fortbildung.jpg
END:VEVENT
BEGIN:VEVENT
DTSTART;TZID=Europe/Berlin:20220428T000000
DTEND;TZID=Europe/Berlin:20220428T000000
DTSTAMP:20260419T190703
CREATED:20211220T130238Z
LAST-MODIFIED:20220330T105532Z
UID:4341-1651104000-1651104000@www.therapiepunkt.de
SUMMARY:** Termin wird leider verschoben ** Heilmittelrichtlinien I  After Work Lecture
DESCRIPTION:Diese Veranstaltung ist exklusiv für alle Mitarbeiter vom therapiePUNKT.
URL:https://www.therapiepunkt.de/events-online/after-work-lecture-heilmittelrichtlinien/
LOCATION:Online
CATEGORIES:Interne Veranstaltungen,Physiotherapie
ATTACH;FMTTYPE=image/jpeg:https://www.therapiepunkt.de/wp-content/uploads/2021/04/Standort-Fortbildung.jpg
END:VEVENT
END:VCALENDAR