BEGIN:VCALENDAR
VERSION:2.0
PRODID:-//Physiotherapie München | TherapiePUNKT - ECPv6.15.20//NONSGML v1.0//EN
CALSCALE:GREGORIAN
METHOD:PUBLISH
X-ORIGINAL-URL:https://www.therapiepunkt.de
X-WR-CALDESC:Veranstaltungen für Physiotherapie München | TherapiePUNKT
REFRESH-INTERVAL;VALUE=DURATION:PT1H
X-Robots-Tag:noindex
X-PUBLISHED-TTL:PT1H
BEGIN:VTIMEZONE
TZID:Europe/Berlin
BEGIN:DAYLIGHT
TZOFFSETFROM:+0100
TZOFFSETTO:+0200
TZNAME:CEST
DTSTART:20210328T010000
END:DAYLIGHT
BEGIN:STANDARD
TZOFFSETFROM:+0200
TZOFFSETTO:+0100
TZNAME:CET
DTSTART:20211031T010000
END:STANDARD
BEGIN:DAYLIGHT
TZOFFSETFROM:+0100
TZOFFSETTO:+0200
TZNAME:CEST
DTSTART:20220327T010000
END:DAYLIGHT
BEGIN:STANDARD
TZOFFSETFROM:+0200
TZOFFSETTO:+0100
TZNAME:CET
DTSTART:20221030T010000
END:STANDARD
BEGIN:DAYLIGHT
TZOFFSETFROM:+0100
TZOFFSETTO:+0200
TZNAME:CEST
DTSTART:20230326T010000
END:DAYLIGHT
BEGIN:STANDARD
TZOFFSETFROM:+0200
TZOFFSETTO:+0100
TZNAME:CET
DTSTART:20231029T010000
END:STANDARD
END:VTIMEZONE
BEGIN:VEVENT
DTSTART;TZID=Europe/Berlin:20220118T120000
DTEND;TZID=Europe/Berlin:20220118T124500
DTSTAMP:20260420T002704
CREATED:20211108T124125Z
LAST-MODIFIED:20220112T092721Z
UID:3891-1642507200-1642509900@www.therapiepunkt.de
SUMMARY:Webinar: Detox und Saftkuren -  Reinigung der anderen Art
DESCRIPTION:Diese Veranstaltung ist für alle Mitarbeiter des therapiePUNKTs und healthloft kostenfrei! \nSie haben schon öfter von Detox und Saftkuren gehört\, aber wissen nicht was genau es damit auf sich hat? Wir zeigen Ihnen was hinter diesem Trend steckt\, worauf geachtet werden muss\, welchen Nutzen das Ganze hat und wie Sie damit den Start in eine gesundheitsbewusste Ernährung finden. \nInhalte dieses Events sind: \n\nSaftkuren im Überblick\nPro & Contra von Detox / Saftkuren\nErfolgsaussichten\n\n  \nSie können Ihr Event gerne über Paypal bezahlen. Sollten Sie kein Konto bei diesem Anbieter haben\, melden Sie sich gerne unter gesundheit@therapiepunkt.de bei uns.
URL:https://www.therapiepunkt.de/events-online/detox-und-saftkuren-reinigung-der-anderen-art/
CATEGORIES:Ernährung
ATTACH;FMTTYPE=image/jpeg:https://www.therapiepunkt.de/wp-content/uploads/2021/11/smoothies-gba6ccf8a7_1920-e1637871652867.jpg
END:VEVENT
BEGIN:VEVENT
DTSTART;TZID=Europe/Berlin:20220119T090000
DTEND;TZID=Europe/Berlin:20220119T110000
DTSTAMP:20260420T002704
CREATED:20220111T115505Z
LAST-MODIFIED:20220117T113833Z
UID:5190-1642582800-1642590000@www.therapiepunkt.de
SUMMARY:TheOrg Admin Schulung
DESCRIPTION:Diese Veranstaltung ist exklusiv für Mitarbeiter vom therapiePUNKT.  \nAlle beteiligten Mitarbeiter werden vom Projekt Team eingeladen.
URL:https://www.therapiepunkt.de/events-online/theorg-admin-schulung/
CATEGORIES:Interne Veranstaltungen
ATTACH;FMTTYPE=image/jpeg:https://www.therapiepunkt.de/wp-content/uploads/2022/01/coding-g8e674e1ce_1920.jpg
END:VEVENT
BEGIN:VEVENT
DTSTART;TZID=Europe/Berlin:20220119T150000
DTEND;TZID=Europe/Berlin:20220119T170000
DTSTAMP:20260420T002704
CREATED:20220111T115824Z
LAST-MODIFIED:20220117T113709Z
UID:5193-1642604400-1642611600@www.therapiepunkt.de
SUMMARY:Workshop: Qualitätsprozesse Projektorganisation
DESCRIPTION:Diese Veranstaltung ist exklusiv für Mitarbeiter vom therapiePUNKT. \nAlle beteiligten Mitarbeiter werden vom Projekt Team eingeladen.
URL:https://www.therapiepunkt.de/events-online/workshop-qualitaetsprozesse-projektorganisation/
LOCATION:live
CATEGORIES:Interne Veranstaltungen
ATTACH;FMTTYPE=image/jpeg:https://www.therapiepunkt.de/wp-content/uploads/2022/01/bulletin-board-gbbe8a6664_1920.jpg
END:VEVENT
BEGIN:VEVENT
DTSTART;TZID=Europe/Berlin:20220120T183000
DTEND;TZID=Europe/Berlin:20220120T190000
DTSTAMP:20260420T002704
CREATED:20211220T100042Z
LAST-MODIFIED:20220120T074148Z
UID:4259-1642703400-1642705200@www.therapiepunkt.de
SUMMARY:Transparenz Report
DESCRIPTION:Diese Veranstaltung ist exklusiv für Mitarbeiter vom therapiePUNKT.  \n„Bericht aus der Geschäftsleitung – aktuelle Themen unplugged.“
URL:https://www.therapiepunkt.de/events-online/transparent-report/
LOCATION:Online
CATEGORIES:Interne Veranstaltungen
ATTACH;FMTTYPE=image/jpeg:https://www.therapiepunkt.de/wp-content/uploads/2021/12/opinion-poll-gf8ea58d03_1920.jpg
END:VEVENT
BEGIN:VEVENT
DTSTART;TZID=Europe/Berlin:20220121T110000
DTEND;TZID=Europe/Berlin:20220121T130000
DTSTAMP:20260420T002704
CREATED:20220120T073050Z
LAST-MODIFIED:20220120T073236Z
UID:5497-1642762800-1642770000@www.therapiepunkt.de
SUMMARY:Workshop: Qualitätsprozesse / Projektorganisation
DESCRIPTION:Diese Veranstaltung ist exklusiv für Mitarbeiter von therapiePUNKT und healthloft.
URL:https://www.therapiepunkt.de/events-online/workshop-qualitaetsprozesse-projektorganisation-2/
LOCATION:Online
CATEGORIES:Interne Veranstaltungen
ATTACH;FMTTYPE=image/jpeg:https://www.therapiepunkt.de/wp-content/uploads/2021/04/Standort-Fortbildung.jpg
END:VEVENT
BEGIN:VEVENT
DTSTART;TZID=Europe/Berlin:20220126T170000
DTEND;TZID=Europe/Berlin:20220126T183000
DTSTAMP:20260420T002704
CREATED:20211109T121018Z
LAST-MODIFIED:20220117T114110Z
UID:3981-1643216400-1643221800@www.therapiepunkt.de
SUMMARY:Wohin geht die Reise nach der Ausbildung?
DESCRIPTION:Sollte ich lieber in einer Praxis oder vielleicht doch in einer Klinik arbeiten? Oder mich direkt selbständig machen?\nWelche Fortbildung macht nach der Ausbildung am meisten Sinn?\nHabe ich darüber hinaus auch andere Entwicklungsmöglichkeiten? \nDiese Fragen und noch viel mehr\, werden wir in diesem Webinar beantworten. \nInhalte werden sein: \n\nVor- und Nachteile der unterschiedlichen Arbeitsplätze\nVorstellung der Fortbildungsarten\, der beste Zeitpunkt dafür und ein Einblick in deren Finanzierungsmöglichkeiten\nEin Beispiel\, wie deine Zukunft aussehen kann\nTypische Einstiegsgehälter und zukünftige Verdienstmöglichkeiten
URL:https://www.therapiepunkt.de/events-online/wohin-geht-die-reise-nach-der-ausbildung/
ATTACH;FMTTYPE=image/jpeg:https://www.therapiepunkt.de/wp-content/uploads/2017/02/Physiotherapie-Olching-Muenchen-Therapiepunkt-Personal-Training-b.jpg
END:VEVENT
BEGIN:VEVENT
DTSTART;TZID=Europe/Berlin:20220128T110000
DTEND;TZID=Europe/Berlin:20220128T133000
DTSTAMP:20260420T002704
CREATED:20220120T073349Z
LAST-MODIFIED:20220124T142530Z
UID:5502-1643367600-1643376600@www.therapiepunkt.de
SUMMARY:Workshop: Qualitätsprozesse / Projektorganisation
DESCRIPTION:Diese Veranstaltung ist exklusiv für Mitarbeiter von therapiePUNKT und healthloft.
URL:https://www.therapiepunkt.de/events-online/workshop-qualitaetsprozesse-projektorganisation-2-2/
LOCATION:Online
CATEGORIES:Interne Veranstaltungen
ATTACH;FMTTYPE=image/jpeg:https://www.therapiepunkt.de/wp-content/uploads/2021/04/Standort-Fortbildung.jpg
END:VEVENT
END:VCALENDAR