BEGIN:VCALENDAR
VERSION:2.0
PRODID:-//Physiotherapie München | TherapiePUNKT - ECPv6.15.20//NONSGML v1.0//EN
CALSCALE:GREGORIAN
METHOD:PUBLISH
X-ORIGINAL-URL:https://www.therapiepunkt.de
X-WR-CALDESC:Veranstaltungen für Physiotherapie München | TherapiePUNKT
REFRESH-INTERVAL;VALUE=DURATION:PT1H
X-Robots-Tag:noindex
X-PUBLISHED-TTL:PT1H
BEGIN:VTIMEZONE
TZID:Europe/Berlin
BEGIN:DAYLIGHT
TZOFFSETFROM:+0100
TZOFFSETTO:+0200
TZNAME:CEST
DTSTART:20200329T010000
END:DAYLIGHT
BEGIN:STANDARD
TZOFFSETFROM:+0200
TZOFFSETTO:+0100
TZNAME:CET
DTSTART:20201025T010000
END:STANDARD
BEGIN:DAYLIGHT
TZOFFSETFROM:+0100
TZOFFSETTO:+0200
TZNAME:CEST
DTSTART:20210328T010000
END:DAYLIGHT
BEGIN:STANDARD
TZOFFSETFROM:+0200
TZOFFSETTO:+0100
TZNAME:CET
DTSTART:20211031T010000
END:STANDARD
BEGIN:DAYLIGHT
TZOFFSETFROM:+0100
TZOFFSETTO:+0200
TZNAME:CEST
DTSTART:20220327T010000
END:DAYLIGHT
BEGIN:STANDARD
TZOFFSETFROM:+0200
TZOFFSETTO:+0100
TZNAME:CET
DTSTART:20221030T010000
END:STANDARD
END:VTIMEZONE
BEGIN:VEVENT
DTSTART;TZID=Europe/Berlin:20210901T130000
DTEND;TZID=Europe/Berlin:20210901T150000
DTSTAMP:20260420T073054
CREATED:20210427T085459Z
LAST-MODIFIED:20210819T131901Z
UID:2704-1630501200-1630508400@www.therapiepunkt.de
SUMMARY:Relevante Nervendehntests
DESCRIPTION:
URL:https://www.therapiepunkt.de/events-online/relevante-nervendehntests/
LOCATION:therapiePUNKT Heimstetten
CATEGORIES:Interne Veranstaltungen
ATTACH;FMTTYPE=image/jpeg:https://www.therapiepunkt.de/wp-content/uploads/2021/04/Standort-Fortbildung.jpg
END:VEVENT
BEGIN:VEVENT
DTSTART;TZID=Europe/Berlin:20210908T180000
DTEND;TZID=Europe/Berlin:20210908T183000
DTSTAMP:20260420T073054
CREATED:20210114T165457Z
LAST-MODIFIED:20210906T110942Z
UID:1657-1631124000-1631125800@www.therapiepunkt.de
SUMMARY:Webinar: Bewahren Sie Haltung - Rund um den Rücken
DESCRIPTION:Kennen Sie das – Schmerzen im Bereich von Nacken\, Schultern und Rücken? Viel zu viele Menschen haben Beschwerden im Rücken und sind dadurch auch in Ihrem Alltag deutlich eingeschränkt. Wir bringen Sie auf den Weg\, Ihre Rückenprobleme hinter sich zu lassen und wieder fit in Ihren Alltag zu starten. \nInhalte dieses Webinars sind: \n\nFakten zum Rücken\nRichtiges Heben und Tragen – Grundlagen\nRückenschmerzen vorbeugen – Tipps für den Alltag\n\n\nThemenbereiche: \n\nBewegung
URL:https://www.therapiepunkt.de/events-online/webinar-bewahren-sie-haltung-rund-um-den-ruecken/
LOCATION:Online
ATTACH;FMTTYPE=image/jpeg:https://www.therapiepunkt.de/wp-content/uploads/2021/01/shutterstock_5622062501-e1630767823454.jpg
END:VEVENT
BEGIN:VEVENT
DTSTART;TZID=Europe/Berlin:20210915T183000
DTEND;TZID=Europe/Berlin:20210915T190000
DTSTAMP:20260420T073054
CREATED:20210826T065320Z
LAST-MODIFIED:20210902T084944Z
UID:3341-1631730600-1631732400@www.therapiepunkt.de
SUMMARY:Transparenz Report
DESCRIPTION:
URL:https://www.therapiepunkt.de/events-online/transparenz-report/
LOCATION:Online
CATEGORIES:Interne Veranstaltungen
END:VEVENT
BEGIN:VEVENT
DTSTART;VALUE=DATE:20210917
DTEND;VALUE=DATE:20210918
DTSTAMP:20260420T073054
CREATED:20210730T171436Z
LAST-MODIFIED:20210813T130157Z
UID:3164-1631836800-1631923199@www.therapiepunkt.de
SUMMARY:Strategie-Meeting Manager Operations
DESCRIPTION:Wie richten wir uns zukünftig aus\, um unsere Praxen bestmöglich zu unterstützen?\n\nGeeignet für:\nManager Operations
URL:https://www.therapiepunkt.de/events-online/meeting-mops/
LOCATION:therapiePUNKT Zentrale
CATEGORIES:Interne Veranstaltungen
ATTACH;FMTTYPE=application/pdf:https://www.therapiepunkt.de/wp-content/uploads/2021/07/Design-ohne-Titel.pdf
END:VEVENT
BEGIN:VEVENT
DTSTART;TZID=Europe/Berlin:20210923T090000
DTEND;TZID=Europe/Berlin:20210923T163000
DTSTAMP:20260420T073054
CREATED:20210415T124547Z
LAST-MODIFIED:20210813T130206Z
UID:2593-1632387600-1632414600@www.therapiepunkt.de
SUMMARY:Meeting: FL/REZ Meeting
DESCRIPTION:
URL:https://www.therapiepunkt.de/events-online/meeting-fl-rez-meeting/
LOCATION:therapiePUNKT Zentrale
CATEGORIES:Interne Veranstaltungen
ATTACH;FMTTYPE=image/jpeg:https://www.therapiepunkt.de/wp-content/uploads/2021/04/shutterstock_193983560-e1705584204501.jpg
END:VEVENT
BEGIN:VEVENT
DTSTART;TZID=Europe/Berlin:20210929T160000
DTEND;TZID=Europe/Berlin:20210929T160000
DTSTAMP:20260420T073054
CREATED:20210114T190232Z
LAST-MODIFIED:20210824T115425Z
UID:1751-1632931200-1632931200@www.therapiepunkt.de
SUMMARY:Workshop: Gesunder Rücken im Job und Alltag
DESCRIPTION:Nach dem Motto ein starker Rücken kann auch entzücken\, zeigen wir Ihnen wie Sie mit einfachen Übungen Ihren Rücken stärken und nachhaltig stabil halten können.
URL:https://www.therapiepunkt.de/events-online/workshop-gesunder-ruecken-im-job-und-alltag/
LOCATION:Online
ATTACH;FMTTYPE=image/jpeg:https://www.therapiepunkt.de/wp-content/uploads/2021/01/shutterstock_6500948261.jpg
END:VEVENT
BEGIN:VEVENT
DTSTART;TZID=Europe/Berlin:20210929T201500
DTEND;TZID=Europe/Berlin:20210929T210000
DTSTAMP:20260420T073054
CREATED:20210812T092840Z
LAST-MODIFIED:20210825T181809Z
UID:3246-1632946500-1632949200@www.therapiepunkt.de
SUMMARY:therapiePUNKT After Work Lecture: Nachbehandlung von TEPs - Was ist wichtig? Was ist neu? Wie gehe ich vor?
DESCRIPTION:Rehabilitation nach Hüft- und Knie Totalendoprothese. Was ist neu? Wie viele Restriktionen braucht es? Worauf solltet ihr als PTs während der Rehabilitation achten und wie kann eine Person nach TEP-Versorgung am besten trainieren. In diesem Seminar werden wir auch die Frage klären\, ob eine Person mit TEP wieder Sport machen darf.
URL:https://www.therapiepunkt.de/events-online/after-work-lecture-tep-versorgung-und-nachbehandlung/
LOCATION:Online
CATEGORIES:Interne Veranstaltungen
ATTACH;FMTTYPE=image/jpeg:https://www.therapiepunkt.de/wp-content/uploads/2021/08/student-849828_1920.jpg
END:VEVENT
BEGIN:VEVENT
DTSTART;TZID=Europe/Berlin:20210930T110000
DTEND;TZID=Europe/Berlin:20210930T130000
DTSTAMP:20260420T073054
CREATED:20210726T155339Z
LAST-MODIFIED:20210825T181747Z
UID:3135-1632999600-1633006800@www.therapiepunkt.de
SUMMARY:Workshop: Refresher tP Qualitätsprozesse
DESCRIPTION:Inhalte: \n\nBest practice in der Patienten-Beratung\nHow to become “Trusted Advisor”\n\nVoraussetzung:\nVorherige Teilnahme an tP Qualitätsprozesse Basis (ca. 3-6 Monate zuvor)
URL:https://www.therapiepunkt.de/events-online/workshop-refresher-tp-qualitaetsprozesse-6-2/
LOCATION:therapiePUNKT Prinzregentenplatz
CATEGORIES:Interne Veranstaltungen
ATTACH;FMTTYPE=image/jpeg:https://www.therapiepunkt.de/wp-content/uploads/2021/04/shutterstock_1315576370.jpg
END:VEVENT
END:VCALENDAR