BEGIN:VCALENDAR
VERSION:2.0
PRODID:-//Physiotherapie München | TherapiePUNKT - ECPv6.15.20//NONSGML v1.0//EN
CALSCALE:GREGORIAN
METHOD:PUBLISH
X-ORIGINAL-URL:https://www.therapiepunkt.de
X-WR-CALDESC:Veranstaltungen für Physiotherapie München | TherapiePUNKT
REFRESH-INTERVAL;VALUE=DURATION:PT1H
X-Robots-Tag:noindex
X-PUBLISHED-TTL:PT1H
BEGIN:VTIMEZONE
TZID:Europe/Berlin
BEGIN:DAYLIGHT
TZOFFSETFROM:+0100
TZOFFSETTO:+0200
TZNAME:CEST
DTSTART:20200329T010000
END:DAYLIGHT
BEGIN:STANDARD
TZOFFSETFROM:+0200
TZOFFSETTO:+0100
TZNAME:CET
DTSTART:20201025T010000
END:STANDARD
BEGIN:DAYLIGHT
TZOFFSETFROM:+0100
TZOFFSETTO:+0200
TZNAME:CEST
DTSTART:20210328T010000
END:DAYLIGHT
BEGIN:STANDARD
TZOFFSETFROM:+0200
TZOFFSETTO:+0100
TZNAME:CET
DTSTART:20211031T010000
END:STANDARD
BEGIN:DAYLIGHT
TZOFFSETFROM:+0100
TZOFFSETTO:+0200
TZNAME:CEST
DTSTART:20220327T010000
END:DAYLIGHT
BEGIN:STANDARD
TZOFFSETFROM:+0200
TZOFFSETTO:+0100
TZNAME:CET
DTSTART:20221030T010000
END:STANDARD
END:VTIMEZONE
BEGIN:VEVENT
DTSTART;TZID=Europe/Berlin:20210609T113000
DTEND;TZID=Europe/Berlin:20210609T133000
DTSTAMP:20260420T130343
CREATED:20210412T204923Z
LAST-MODIFIED:20210503T121410Z
UID:2488-1623238200-1623245400@www.therapiepunkt.de
SUMMARY:Workshop: Refresher tP Qualitätsprozesse
DESCRIPTION:Best practice in der Patienten-Beratung\nHow to become “Trusted Advisor”\n\nVoraussetzung:\nVorherige Teilnahme an tP Qualitätsprozesse Basis (ca. 3-6 Monate zuvor)
URL:https://www.therapiepunkt.de/events-online/workshop-refresher-tp-qualitaetsprozesse-3/
LOCATION:therapiePUNKT Prinzregentenplatz
CATEGORIES:Interne Veranstaltungen
ATTACH;FMTTYPE=image/jpeg:https://www.therapiepunkt.de/wp-content/uploads/2021/04/shutterstock_1315576370.jpg
END:VEVENT
BEGIN:VEVENT
DTSTART;TZID=Europe/Berlin:20210609T180000
DTEND;TZID=Europe/Berlin:20210609T183000
DTSTAMP:20260420T130343
CREATED:20210114T154342Z
LAST-MODIFIED:20210502T123439Z
UID:1638-1623261600-1623263400@www.therapiepunkt.de
SUMMARY:Webinar: Trendsportarten
DESCRIPTION:Joggen ist dir zu langweilig und Hanteltraining sowieso? Wenn Sie fitter werden wollen und eine Herausforderung suchen sind Trendsportarten vielleicht genau das Richtige für Sie! In diesem Webinar zeigen wir Ihnen alles rund um das Thema Trendsportarten und können Sie somit vielleicht von der ein oder anderen Sportart begeistern. \nInhalte dieses Webinars sind: \n\nMerkmale von Trendsportarten\nEntwicklung\nAktuelle Trendsportarten
URL:https://www.therapiepunkt.de/events-online/webinar-trendsportarten/
ATTACH;FMTTYPE=image/jpeg:https://www.therapiepunkt.de/wp-content/uploads/2021/05/Webinar-Trendsportarten.jpg
END:VEVENT
BEGIN:VEVENT
DTSTART;TZID=Europe/Berlin:20210611T090000
DTEND;TZID=Europe/Berlin:20210611T133000
DTSTAMP:20260420T130343
CREATED:20210415T124408Z
LAST-MODIFIED:20210813T130149Z
UID:2588-1623402000-1623418200@www.therapiepunkt.de
SUMMARY:Meeting: FL Meeting
DESCRIPTION:Ready – steady – go (23.04.)\nReview 1. HJ – what do we need for success? (11.06.)\nHow did we do? (16.12.)
URL:https://www.therapiepunkt.de/events-online/meeting-fl-meeting-2/
LOCATION:therapiePUNKT Zentrale
CATEGORIES:Interne Veranstaltungen
ATTACH;FMTTYPE=image/jpeg:https://www.therapiepunkt.de/wp-content/uploads/2021/04/shutterstock_1866357142-e1675346451289.jpg
END:VEVENT
BEGIN:VEVENT
DTSTART;TZID=Europe/Berlin:20210611T140000
DTEND;TZID=Europe/Berlin:20210611T163000
DTSTAMP:20260420T130343
CREATED:20210415T122544Z
LAST-MODIFIED:20210503T121828Z
UID:2569-1623420000-1623429000@www.therapiepunkt.de
SUMMARY:Workshop: Teamführung Teil 2
DESCRIPTION:Ready for leadership?\nWas heißt „Führung“?\nWie will ich führen?\n\nInhalte: \n\nFührungskompetenzen\nTeamführung\nFeedbackgespräche\nWie mache ich mir Gedanken über die Entwicklung von MA?
URL:https://www.therapiepunkt.de/events-online/workshop-teamfuehrung-teil-1-2-2/
LOCATION:therapiePUNKT Zentrale
CATEGORIES:Interne Veranstaltungen
ATTACH;FMTTYPE=image/jpeg:https://www.therapiepunkt.de/wp-content/uploads/2021/04/shutterstock_1708577269.jpg
END:VEVENT
BEGIN:VEVENT
DTSTART;TZID=Europe/Berlin:20210616T180000
DTEND;TZID=Europe/Berlin:20210616T190000
DTSTAMP:20260420T130343
CREATED:20210114T183116Z
LAST-MODIFIED:20210215T152649Z
UID:1720-1623866400-1623870000@www.therapiepunkt.de
SUMMARY:Workshop Teil 1\, 2 & 3: Neue Sportarten ausprobieren
DESCRIPTION:Sind Sie immer noch auf der Suche nach der richtigen Sportart oder möchten Sie einfach mal was Neues ausprobieren? Dann sind Sie in diesem Workshop genau richtig! Hier durchleben Sie die verschiedensten Sportarten und können bei jeder reinschnuppern\, sich ein Bild davon machen und die ein oder andere danach auch in Ihren Alltag integrieren. \nInhalte dieses Webinars sind: \n\nMerkmale von Trendsportarten\nEntwicklung\nAktuelle Trendsportarten
URL:https://www.therapiepunkt.de/events-online/workshop-neue-sportarten-ausprobieren/2021-06-16/
LOCATION:Online
ATTACH;FMTTYPE=image/jpeg:https://www.therapiepunkt.de/wp-content/uploads/2021/01/shutterstock_13450164831.jpg
END:VEVENT
BEGIN:VEVENT
DTSTART;TZID=Europe/Berlin:20210618T170000
DTEND;TZID=Europe/Berlin:20210618T183000
DTSTAMP:20260420T130343
CREATED:20210202T104648Z
LAST-MODIFIED:20210215T145836Z
UID:1966-1624035600-1624041000@www.therapiepunkt.de
SUMMARY:Webinar: Wohin geht die Reise? – Die Zeit nach meiner Ausbildung zum/zur Physiotherapeuten/in
DESCRIPTION:Sollte ich lieber in einer Praxis oder vielleicht doch in einer Klinik arbeiten? Oder mich direkt selbständig machen?\nWelche Fortbildung macht nach der Ausbildung am meisten Sinn?\nHabe ich darüber hinaus auch andere Entwicklungsmöglichkeiten? \nDiese Fragen und noch viel mehr\, werden wir in diesem Webinar beantworten. \nInhalte werden sein: \n\nVor- und Nachteile der unterschiedlichen Arbeitsplätze\nVorstellung der Fortbildungsarten\, der beste Zeitpunkt dafür und ein Einblick in deren Finanzierungsmöglichkeiten\nein Beispiel\, wie die Zukunft aussehen kann\nTypisches Einstiegsgehalt und weitere Verdienstmöglichkeiten
URL:https://www.therapiepunkt.de/events-online/webinar-wohin-geht-die-reise-die-zeit-nach-meiner-ausbildung-zum-zur-physiotherapeuten-in-3/
ATTACH;FMTTYPE=image/jpeg:https://www.therapiepunkt.de/wp-content/uploads/2017/02/Physiotherapie-Olching-Muenchen-Therapiepunkt-Personal-Training-b.jpg
END:VEVENT
BEGIN:VEVENT
DTSTART;TZID=Europe/Berlin:20210619T173000
DTEND;TZID=Europe/Berlin:20210619T173000
DTSTAMP:20260420T130343
CREATED:20210415T125748Z
LAST-MODIFIED:20210503T122157Z
UID:2604-1624123800-1624123800@www.therapiepunkt.de
SUMMARY:Event: Sommerfest
DESCRIPTION:Was uns ausmacht? Wir sind mehr. Family & Friends.\nWir feiern mit der „großen“ therapiePUNKT Familie: Partner\, Kinder\, Hunde\, …. und sagen Danke.
URL:https://www.therapiepunkt.de/events-online/event-sommerfest/
CATEGORIES:Interne Veranstaltungen
ATTACH;FMTTYPE=image/jpeg:https://www.therapiepunkt.de/wp-content/uploads/2021/04/shutterstock_668044771-e1706095884161.jpg
END:VEVENT
BEGIN:VEVENT
DTSTART;TZID=Europe/Berlin:20210625T090000
DTEND;TZID=Europe/Berlin:20210625T130000
DTSTAMP:20260420T130343
CREATED:20210415T115209Z
LAST-MODIFIED:20210503T122459Z
UID:2545-1624611600-1624626000@www.therapiepunkt.de
SUMMARY:Workshop: Abgrenzung zum Patienten
DESCRIPTION:Nähe zum Patienten – das Spannungsfeld zwischen Intimität und professioneller Abgrenzung\nWie kann ich durch Mindset\, Kommunikation und setting schwierige Situationen meistern\n\nInhalte: \n\nWas bedeutet Abgrenzung?\nBegriffsbestimmung Abgrenzung\nEigene Grenzen erkennen und anerkennen\nWas sind meine Ängste?\nGründe warum wir oftmals keine Grenzen setzen\nAbgrenzung zum Patienten\nIn welchen Situationen ist eine gute Abgrenzung notwendig?\nUmgang mit schwierigen Patienten\nWie kommuniziere ich am besten klar und wertschätzend die Grenzen meiner Möglichkeiten?
URL:https://www.therapiepunkt.de/events-online/workshop-abgrenzung-zum-patienten/
LOCATION:therapiePUNKT Werksviertel
CATEGORIES:Interne Veranstaltungen
ATTACH;FMTTYPE=image/jpeg:https://www.therapiepunkt.de/wp-content/uploads/2021/04/shutterstock_585111460.jpg
END:VEVENT
BEGIN:VEVENT
DTSTART;TZID=Europe/Berlin:20210629T111000
DTEND;TZID=Europe/Berlin:20210629T131000
DTSTAMP:20260420T130343
CREATED:20210427T082610Z
LAST-MODIFIED:20210503T123005Z
UID:2677-1624965000-1624972200@www.therapiepunkt.de
SUMMARY:Themenbereich Training
DESCRIPTION:
URL:https://www.therapiepunkt.de/events-online/themenbereich-training/
LOCATION:therapiePUNKT Prinzregentenplatz
CATEGORIES:Interne Veranstaltungen
ATTACH;FMTTYPE=image/jpeg:https://www.therapiepunkt.de/wp-content/uploads/2021/04/Standort-Fortbildung.jpg
END:VEVENT
END:VCALENDAR