BEGIN:VCALENDAR
VERSION:2.0
PRODID:-//Physiotherapie München | TherapiePUNKT - ECPv6.15.20//NONSGML v1.0//EN
CALSCALE:GREGORIAN
METHOD:PUBLISH
X-WR-CALNAME:Physiotherapie München | TherapiePUNKT
X-ORIGINAL-URL:https://www.therapiepunkt.de
X-WR-CALDESC:Veranstaltungen für Physiotherapie München | TherapiePUNKT
REFRESH-INTERVAL;VALUE=DURATION:PT1H
X-Robots-Tag:noindex
X-PUBLISHED-TTL:PT1H
BEGIN:VTIMEZONE
TZID:Europe/Berlin
BEGIN:DAYLIGHT
TZOFFSETFROM:+0100
TZOFFSETTO:+0200
TZNAME:CEST
DTSTART:20200329T010000
END:DAYLIGHT
BEGIN:STANDARD
TZOFFSETFROM:+0200
TZOFFSETTO:+0100
TZNAME:CET
DTSTART:20201025T010000
END:STANDARD
BEGIN:DAYLIGHT
TZOFFSETFROM:+0100
TZOFFSETTO:+0200
TZNAME:CEST
DTSTART:20210328T010000
END:DAYLIGHT
BEGIN:STANDARD
TZOFFSETFROM:+0200
TZOFFSETTO:+0100
TZNAME:CET
DTSTART:20211031T010000
END:STANDARD
BEGIN:DAYLIGHT
TZOFFSETFROM:+0100
TZOFFSETTO:+0200
TZNAME:CEST
DTSTART:20220327T010000
END:DAYLIGHT
BEGIN:STANDARD
TZOFFSETFROM:+0200
TZOFFSETTO:+0100
TZNAME:CET
DTSTART:20221030T010000
END:STANDARD
END:VTIMEZONE
BEGIN:VEVENT
DTSTART;TZID=Europe/Berlin:20210505T120000
DTEND;TZID=Europe/Berlin:20210505T120000
DTSTAMP:20260420T145308
CREATED:20210503T084639Z
LAST-MODIFIED:20210813T130029Z
UID:2793-1620216000-1620216000@www.therapiepunkt.de
SUMMARY:Umgang mit den neuen Heilmittelrichtlinien
DESCRIPTION:Individuelles Webinar für eine Arztpraxis zur Schulung des medizinischen Personals:\nWas ändert sich 2021 mit der neuen Heilmittelverordnung?\nWie gehe ich mit den neuen Heilmittelrichtlinien um?\n\nWeitere Workshops zu diesem Thema folgen.\nPrivate Anfragen bitte stellen an: praxisservice@therapiepunkt.de\n\nGeeignet für: Therapeuten\, Rezeption\, MFA\, ArzthelferInnen
URL:https://www.therapiepunkt.de/events-online/umgang-mit-den-neuen-heilmittelrichtlinien/
CATEGORIES:Interne Veranstaltungen
END:VEVENT
BEGIN:VEVENT
DTSTART;TZID=Europe/Berlin:20210507T090000
DTEND;TZID=Europe/Berlin:20210507T180000
DTSTAMP:20260420T145308
CREATED:20210415T141239Z
LAST-MODIFIED:20210503T120503Z
UID:2608-1620378000-1620410400@www.therapiepunkt.de
SUMMARY:Event: Inspiration Day
DESCRIPTION:Auf unbestimmte Zeit verschoben. \ntherapiePUNKT & healthloft go visionary \nSchauen Sie gemeinsam mit uns über den Tellerrand hinaus.
URL:https://www.therapiepunkt.de/events-online/event-inspiration-day/
CATEGORIES:Interne Veranstaltungen
ATTACH;FMTTYPE=image/jpeg:https://www.therapiepunkt.de/wp-content/uploads/2021/01/Workshop-5-Entscheidungen.jpg
END:VEVENT
BEGIN:VEVENT
DTSTART;TZID=Europe/Berlin:20210512T180000
DTEND;TZID=Europe/Berlin:20210512T183000
DTSTAMP:20260420T145308
CREATED:20210114T152903Z
LAST-MODIFIED:20210215T145537Z
UID:1630-1620842400-1620844200@www.therapiepunkt.de
SUMMARY:Webinar: Brainfood
DESCRIPTION:Um unser Gehirn fit und leistungsfähig zu halten\, darf die richtige Ernährung hierfür nicht fehlen. Welche Nahrungsmittel geben unserem Gehirn nun den einen Power Booster und unterstützen unsere Fähigkeiten? Wir wissen die Antwort und verraten sie Ihnen gerne in unserem Webinar über Brainfood! \nInhalte dieses Webinars sind: \n\nWas ist Brainfood\nWelche Stoffe benötigt unser Gehirn zum Arbeiten\nGehirnsnacks für zwischendurch
URL:https://www.therapiepunkt.de/events-online/webinar-brainfood/
LOCATION:Online
CATEGORIES:Ernährung
ATTACH;FMTTYPE=image/jpeg:https://www.therapiepunkt.de/wp-content/uploads/2021/01/shutterstock_5544895751.jpg
END:VEVENT
BEGIN:VEVENT
DTSTART;TZID=Europe/Berlin:20210518T120000
DTEND;TZID=Europe/Berlin:20210518T140000
DTSTAMP:20260420T145308
CREATED:20210427T081804Z
LAST-MODIFIED:20210813T130601Z
UID:2671-1621339200-1621346400@www.therapiepunkt.de
SUMMARY:Functional Flossing 
DESCRIPTION:
URL:https://www.therapiepunkt.de/events-online/flossing/
LOCATION:therapiePUNKT Glockenbachviertel\, München City & Werksviertel
CATEGORIES:Interne Veranstaltungen
ATTACH;FMTTYPE=image/jpeg:https://www.therapiepunkt.de/wp-content/uploads/2021/04/Standort-Fortbildung.jpg
END:VEVENT
BEGIN:VEVENT
DTSTART;TZID=Europe/Berlin:20210519T130000
DTEND;TZID=Europe/Berlin:20210519T150000
DTSTAMP:20260420T145308
CREATED:20210427T091123Z
LAST-MODIFIED:20210502T120918Z
UID:2717-1621429200-1621436400@www.therapiepunkt.de
SUMMARY:Sicherheitstests in der MT
DESCRIPTION:
URL:https://www.therapiepunkt.de/events-online/sicherheitstests-in-der-mt/
LOCATION:therapiePUNKT Heimstetten
CATEGORIES:Interne Veranstaltungen
ATTACH;FMTTYPE=image/jpeg:https://www.therapiepunkt.de/wp-content/uploads/2021/04/Standort-Fortbildung.jpg
END:VEVENT
BEGIN:VEVENT
DTSTART;TZID=Europe/Berlin:20210519T170000
DTEND;TZID=Europe/Berlin:20210519T190000
DTSTAMP:20260420T145308
CREATED:20210114T182025Z
LAST-MODIFIED:20220907T174706Z
UID:1711-1621443600-1621450800@www.therapiepunkt.de
SUMMARY:Workshop Teil 1 & 2: Brainfood näher kennenlernen durch gemeinsames Kochen
DESCRIPTION:Dieser Kurs richtet sich an alle\, die sich gesünder ernähren möchten und mit der Ernährung ihr Gehirn anregen und optimal unterstützen wollen. In unserem Workshop erfahren Sie mehr über das sogenannte Brainfood und gemeinsam bereiten wir geeignete Snacks für zwischendurch zu\, die unsere Leistungsfähigkeit und Motivation wieder antreiben. \nInhalte dieses Kurses sind: \n\nAuffrischung: Was versteht man unter Brainfood\nWie kann man Brainfood leicht in den Alltag integrieren\nGemeinsam kochen: Brainfood-Riegel
URL:https://www.therapiepunkt.de/events-online/workshop-brainfood-naeher-kennenlernen-durch-gemeinsames-kochen/2021-05-19/
LOCATION:Online
CATEGORIES:Ernährung
ATTACH;FMTTYPE=image/jpeg:https://www.therapiepunkt.de/wp-content/uploads/2021/01/shutterstock_15722242631.jpg
END:VEVENT
BEGIN:VEVENT
DTSTART;TZID=Europe/Berlin:20210526T180000
DTEND;TZID=Europe/Berlin:20210526T193000
DTSTAMP:20260420T145308
CREATED:20210415T142206Z
LAST-MODIFIED:20210503T121137Z
UID:2614-1622052000-1622057400@www.therapiepunkt.de
SUMMARY:Expertenforum: Journal Club
DESCRIPTION:Jeden Monat einmal „state of the art“ Wissen tanken. \nUnsere „Journal club“-Serie befasst sich mit spannenden Studien im Rahmen eines 1\,5 stündigen\, gemütlichen GetTogethers.
URL:https://www.therapiepunkt.de/events-online/expertenforum-journal-club/
LOCATION:Online
CATEGORIES:Expertenforen,Interne Veranstaltungen
ATTACH;FMTTYPE=image/jpeg:https://www.therapiepunkt.de/wp-content/uploads/2021/04/shutterstock_506137015.jpg
END:VEVENT
END:VCALENDAR