BEGIN:VCALENDAR
VERSION:2.0
PRODID:-//Physiotherapie München | TherapiePUNKT - ECPv6.15.20//NONSGML v1.0//EN
CALSCALE:GREGORIAN
METHOD:PUBLISH
X-WR-CALNAME:Physiotherapie München | TherapiePUNKT
X-ORIGINAL-URL:https://www.therapiepunkt.de
X-WR-CALDESC:Veranstaltungen für Physiotherapie München | TherapiePUNKT
REFRESH-INTERVAL;VALUE=DURATION:PT1H
X-Robots-Tag:noindex
X-PUBLISHED-TTL:PT1H
BEGIN:VTIMEZONE
TZID:Europe/Berlin
BEGIN:DAYLIGHT
TZOFFSETFROM:+0100
TZOFFSETTO:+0200
TZNAME:CEST
DTSTART:20200329T010000
END:DAYLIGHT
BEGIN:STANDARD
TZOFFSETFROM:+0200
TZOFFSETTO:+0100
TZNAME:CET
DTSTART:20201025T010000
END:STANDARD
BEGIN:DAYLIGHT
TZOFFSETFROM:+0100
TZOFFSETTO:+0200
TZNAME:CEST
DTSTART:20210328T010000
END:DAYLIGHT
BEGIN:STANDARD
TZOFFSETFROM:+0200
TZOFFSETTO:+0100
TZNAME:CET
DTSTART:20211031T010000
END:STANDARD
BEGIN:DAYLIGHT
TZOFFSETFROM:+0100
TZOFFSETTO:+0200
TZNAME:CEST
DTSTART:20220327T010000
END:DAYLIGHT
BEGIN:STANDARD
TZOFFSETFROM:+0200
TZOFFSETTO:+0100
TZNAME:CET
DTSTART:20221030T010000
END:STANDARD
END:VTIMEZONE
BEGIN:VEVENT
DTSTART;TZID=Europe/Berlin:20210413T133000
DTEND;TZID=Europe/Berlin:20210413T153000
DTSTAMP:20260420T164414
CREATED:20210412T201332Z
LAST-MODIFIED:20210414T075555Z
UID:2465-1618320600-1618327800@www.therapiepunkt.de
SUMMARY:Workshop: Refresher tP Qualitätsprozesse
DESCRIPTION:Best practice in der Patienten-Beratung\nHow to become “Trusted Advisor”\n\nVoraussetzung:\nVorherige Teilnahme an tP Qualitätsprozesse Basis (ca. 3-6 Monate zuvor) \n 
URL:https://www.therapiepunkt.de/events-online/workshop-refresher-tp-qualitaetsprozesse/
LOCATION:therapiePUNKT Werksviertel & München City
CATEGORIES:Interne Veranstaltungen
ATTACH;FMTTYPE=image/jpeg:https://www.therapiepunkt.de/wp-content/uploads/2021/04/shutterstock_1315576370.jpg
END:VEVENT
BEGIN:VEVENT
DTSTART;TZID=Europe/Berlin:20210414T180000
DTEND;TZID=Europe/Berlin:20210414T183000
DTSTAMP:20260420T164414
CREATED:20210114T163620Z
LAST-MODIFIED:20210405T175908Z
UID:1649-1618423200-1618425000@www.therapiepunkt.de
SUMMARY:Webinar: Work- Life- Balance
DESCRIPTION:Den Begriff Work-Life-Balance haben Sie bestimmt schon einmal gehört. Allerdings fragen Sie sich\, was genau sich dahinter verbirgt? Genau das und welchen Nutzen dies sowohl für Arbeitnehmer als auch für Arbeitgeber mit sich bringt erfahren Sie in diesem Webinar. \nInhalte dieses Webinars sind: \n\nWie wichtig ist die Work-Life-Balance\nBalance ist kein echtes Gleichgewicht\nWork Life Integration
URL:https://www.therapiepunkt.de/events-online/webinar-work-life-balance/
LOCATION:Online
ATTACH;FMTTYPE=image/jpeg:https://www.therapiepunkt.de/wp-content/uploads/2021/01/Workshop-5-Entscheidungen.jpg
END:VEVENT
BEGIN:VEVENT
DTSTART;TZID=Europe/Berlin:20210416T090000
DTEND;TZID=Europe/Berlin:20210416T133000
DTSTAMP:20260420T164414
CREATED:20210415T124829Z
LAST-MODIFIED:20210813T130122Z
UID:2597-1618563600-1618579800@www.therapiepunkt.de
SUMMARY:Meeting: REZ Meeting
DESCRIPTION:Wie schaffen wir „Servicewelten“ für unsere Patienten? (16.04.)\n„Let´s dance“ – Wie nehmen wir die „vibrations“ unserer Kunden noch besser auf? (11.11.)\n\nGeeignet für:\nRezeption
URL:https://www.therapiepunkt.de/events-online/meeting-rez-meeting/
LOCATION:therapiePUNKT Zentrale
CATEGORIES:Interne Veranstaltungen
ATTACH;FMTTYPE=image/jpeg:https://www.therapiepunkt.de/wp-content/uploads/2021/04/Meeting-REZ-Meeting.jpg
END:VEVENT
BEGIN:VEVENT
DTSTART;TZID=Europe/Berlin:20210417T100000
DTEND;TZID=Europe/Berlin:20210417T113000
DTSTAMP:20260420T164414
CREATED:20210202T104644Z
LAST-MODIFIED:20210215T145245Z
UID:1965-1618653600-1618659000@www.therapiepunkt.de
SUMMARY:Webinar: Wohin geht die Reise? – Die Zeit nach meiner Ausbildung zum/zur Physiotherapeuten/in
DESCRIPTION:Sollte ich lieber in einer Praxis oder vielleicht doch in einer Klinik arbeiten? Oder mich direkt selbständig machen?\nWelche Fortbildung macht nach der Ausbildung am meisten Sinn?\nHabe ich darüber hinaus auch andere Entwicklungsmöglichkeiten? \nDiese Fragen und noch viel mehr\, werden wir in diesem Webinar beantworten. \nInhalte werden sein: \n\nVor- und Nachteile der unterschiedlichen Arbeitsplätze\nVorstellung der Fortbildungsarten\, der beste Zeitpunkt dafür und ein Einblick in deren Finanzierungsmöglichkeiten\nein Beispiel\, wie die Zukunft aussehen kann\nTypisches Einstiegsgehalt und weitere Verdienstmöglichkeiten
URL:https://www.therapiepunkt.de/events-online/webinar-wohin-geht-die-reise-die-zeit-nach-meiner-ausbildung-zum-zur-physiotherapeuten-in-2/
ATTACH;FMTTYPE=image/jpeg:https://www.therapiepunkt.de/wp-content/uploads/2017/02/Physiotherapie-Olching-Muenchen-Therapiepunkt-Personal-Training-b.jpg
END:VEVENT
BEGIN:VEVENT
DTSTART;TZID=Europe/Berlin:20210421T160000
DTEND;TZID=Europe/Berlin:20210421T190000
DTSTAMP:20260420T164414
CREATED:20210114T181423Z
LAST-MODIFIED:20210215T152344Z
UID:1706-1619020800-1619031600@www.therapiepunkt.de
SUMMARY:Workshop:  Die optimale Lebensbalance finden
DESCRIPTION:Sie sind ständig gestresst sowohl in der Arbeit als auch im privaten Alltag? Sie haben keine Zeit neue Energie zu schöpfen? In unserem Workshop klären wir all Ihre Fragen rund um dieses Thema und zeigen Ihnen\, wie Sie Ihre individuelle Lebensbalance wiedergewinnen. \nInhalte dieses Kurses sind: \n–      Burnout-Prävention \n–      Selbstmanagement \n–      Erkennen der persönlichen Prioritäten und die Umsetzung danach zu leben
URL:https://www.therapiepunkt.de/events-online/workshop-die-optimale-lebensbalance-finden/
LOCATION:Online
ATTACH;FMTTYPE=image/jpeg:https://www.therapiepunkt.de/wp-content/uploads/2021/01/shutterstock_13762481811.jpg
END:VEVENT
BEGIN:VEVENT
DTSTART;TZID=Europe/Berlin:20210423T090000
DTEND;TZID=Europe/Berlin:20210423T133000
DTSTAMP:20260420T164414
CREATED:20210415T124045Z
LAST-MODIFIED:20210813T130131Z
UID:2584-1619168400-1619184600@www.therapiepunkt.de
SUMMARY:Meeting: FL Meeting
DESCRIPTION:Ready – steady – go (23.04.)\nReview 1. HJ – what do we need for success? (11.06.)\nHow did we do? (16.12.)
URL:https://www.therapiepunkt.de/events-online/meeting-fl-meeting/
LOCATION:therapiePUNKT Zentrale
CATEGORIES:Interne Veranstaltungen
ATTACH;FMTTYPE=image/jpeg:https://www.therapiepunkt.de/wp-content/uploads/2021/04/shutterstock_1866357142-e1675346451289.jpg
END:VEVENT
BEGIN:VEVENT
DTSTART;TZID=Europe/Berlin:20210423T140000
DTEND;TZID=Europe/Berlin:20210423T163000
DTSTAMP:20260420T164414
CREATED:20210415T122459Z
LAST-MODIFIED:20210502T124619Z
UID:2567-1619186400-1619195400@www.therapiepunkt.de
SUMMARY:Workshop: Teamführung Teil 1 & 2
DESCRIPTION:Ready for leadership?\nWas heißt „Führung“?\nWie will ich führen?\n\nInhalte: \n\nFührungskompetenzen\nTeamführung\nFeedbackgespräche\nWie mache ich mir Gedanken über die Entwicklung von MA?
URL:https://www.therapiepunkt.de/events-online/workshop-teamfuehrung-teil-1-2/
LOCATION:therapiePUNKT Zentrale
CATEGORIES:Interne Veranstaltungen
ATTACH;FMTTYPE=image/jpeg:https://www.therapiepunkt.de/wp-content/uploads/2021/04/shutterstock_1708577269.jpg
END:VEVENT
BEGIN:VEVENT
DTSTART;TZID=Europe/Berlin:20210428T122000
DTEND;TZID=Europe/Berlin:20210428T142000
DTSTAMP:20260420T164414
CREATED:20210412T204923Z
LAST-MODIFIED:20210415T082854Z
UID:2489-1619612400-1619619600@www.therapiepunkt.de
SUMMARY:Workshop: Refresher tP Qualitätsprozesse
DESCRIPTION:Best practice in der Patienten-Beratung\nHow to become “Trusted Advisor”\n\nVoraussetzung:\nVorherige Teilnahme an tP Qualitätsprozesse Basis (ca. 3-6 Monate zuvor)
URL:https://www.therapiepunkt.de/events-online/workshop-refresher-tp-qualitaetsprozesse-2/
LOCATION:therapiePUNKT Oberföhring
CATEGORIES:Interne Veranstaltungen
ATTACH;FMTTYPE=image/jpeg:https://www.therapiepunkt.de/wp-content/uploads/2021/04/shutterstock_1315576370.jpg
END:VEVENT
END:VCALENDAR