BEGIN:VCALENDAR
VERSION:2.0
PRODID:-//Physiotherapie München | TherapiePUNKT - ECPv6.15.20//NONSGML v1.0//EN
CALSCALE:GREGORIAN
METHOD:PUBLISH
X-WR-CALNAME:Physiotherapie München | TherapiePUNKT
X-ORIGINAL-URL:https://www.therapiepunkt.de
X-WR-CALDESC:Veranstaltungen für Physiotherapie München | TherapiePUNKT
REFRESH-INTERVAL;VALUE=DURATION:PT1H
X-Robots-Tag:noindex
X-PUBLISHED-TTL:PT1H
BEGIN:VTIMEZONE
TZID:Europe/Berlin
BEGIN:DAYLIGHT
TZOFFSETFROM:+0100
TZOFFSETTO:+0200
TZNAME:CEST
DTSTART:20200329T010000
END:DAYLIGHT
BEGIN:STANDARD
TZOFFSETFROM:+0200
TZOFFSETTO:+0100
TZNAME:CET
DTSTART:20201025T010000
END:STANDARD
BEGIN:DAYLIGHT
TZOFFSETFROM:+0100
TZOFFSETTO:+0200
TZNAME:CEST
DTSTART:20210328T010000
END:DAYLIGHT
BEGIN:STANDARD
TZOFFSETFROM:+0200
TZOFFSETTO:+0100
TZNAME:CET
DTSTART:20211031T010000
END:STANDARD
BEGIN:DAYLIGHT
TZOFFSETFROM:+0100
TZOFFSETTO:+0200
TZNAME:CEST
DTSTART:20220327T010000
END:DAYLIGHT
BEGIN:STANDARD
TZOFFSETFROM:+0200
TZOFFSETTO:+0100
TZNAME:CET
DTSTART:20221030T010000
END:STANDARD
END:VTIMEZONE
BEGIN:VEVENT
DTSTART;TZID=Europe/Berlin:20210210T180000
DTEND;TZID=Europe/Berlin:20210210T183000
DTSTAMP:20260420T195218
CREATED:20210114T115709Z
LAST-MODIFIED:20210215T144546Z
UID:1620-1612980000-1612981800@www.therapiepunkt.de
SUMMARY:Webinar: Ernährung und Arbeit in Balance
DESCRIPTION:Sie würden sich gerne gesünder ernähren und vor allem der Arbeitsalltag macht es Ihnen schwer das umzusetzen? Wir helfen Ihnen diese Hürden zu überwinden und zeigen Ihnen\, schnelle und einfache Wege\, wie auch Sie sich trotz Joballtag gesund ernähren können und worauf dabei zu achten ist. \nInhalte dieses Webinars sind: \n\nWarum gesunde Ernährung so wichtig ist\nWarum es schwer fällt\, eine gesunde Ernährung und die Arbeit zu kombinieren\nTipps zum richtigen Essen am Arbeitsplatz
URL:https://www.therapiepunkt.de/events-online/webinar-ernaehrung-und-arbeit-in-balance-2/
LOCATION:Online
CATEGORIES:Ernährung
ATTACH;FMTTYPE=image/jpeg:https://www.therapiepunkt.de/wp-content/uploads/2021/01/Nahrung-und-Arbeit-in-Balance-Webinar.jpg
END:VEVENT
BEGIN:VEVENT
DTSTART;TZID=Europe/Berlin:20210215T173000
DTEND;TZID=Europe/Berlin:20210215T190000
DTSTAMP:20260420T195218
CREATED:20210201T212805Z
LAST-MODIFIED:20210215T144546Z
UID:1932-1613410200-1613415600@www.therapiepunkt.de
SUMMARY:Webinar: Wohin geht die Reise? – Die Zeit nach meiner Ausbildung zum/zur Physiotherapeuten/in
DESCRIPTION:Sollte ich lieber in einer Praxis oder vielleicht doch in einer Klinik arbeiten? Oder mich direkt selbständig machen?\nWelche Fortbildung macht nach der Ausbildung am meisten Sinn?\nHabe ich darüber hinaus auch andere Entwicklungsmöglichkeiten? \nDiese Fragen und noch viel mehr\, werden wir in diesem Webinar beantworten. \nInhalte werden sein: \n\nVor- und Nachteile der unterschiedlichen Arbeitsplätze\nVorstellung der Fortbildungsarten\, der beste Zeitpunkt dafür und ein Einblick in deren Finanzierungsmöglichkeiten\nein Beispiel\, wie die Zukunft aussehen kann\nTypisches Einstiegsgehalt und weitere Verdienstmöglichkeiten
URL:https://www.therapiepunkt.de/events-online/webinar-wohin-geht-die-reise-die-zeit-nach-meiner-ausbildung-zum-zur-physiotherapeuten-in/
ATTACH;FMTTYPE=image/jpeg:https://www.therapiepunkt.de/wp-content/uploads/2017/02/Physiotherapie-Olching-Muenchen-Therapiepunkt-Personal-Training-b.jpg
END:VEVENT
BEGIN:VEVENT
DTSTART;TZID=Europe/Berlin:20210217T170000
DTEND;TZID=Europe/Berlin:20210217T190000
DTSTAMP:20260420T195218
CREATED:20210114T175318Z
LAST-MODIFIED:20210215T144546Z
UID:1689-1613581200-1613588400@www.therapiepunkt.de
SUMMARY:Workshop Teil 1 & 2: Gesunde Ernährung im home office
DESCRIPTION:Immer mehr Menschen arbeiten im Home-Office und haben dadurch eine neue Herausforderung vor sich. Um zusätzliche Kilos zu vermeiden sollte man auf eine gesunde Ernährung achten. Diese stärkt die Gesundheit\, das Immunsystem und das eigene Wohlbefinden und kann dabei auch noch Spaß machen. Dies sehen Sie in unserem Workshop beim gemeinsamen kochen. \nInhalte dieses Kurses sind: \n\nTipps zur gesunden Ernährung im Home-Office\nWichtige Nahrungsmittel\nGemeinsam kochen – schnelle\, einfache und gesunde Gerichte
URL:https://www.therapiepunkt.de/events-online/workshop-gesunde-ernaehrung-im-home-office/2021-02-17/
LOCATION:Online
CATEGORIES:Ernährung
ATTACH;FMTTYPE=image/jpeg:https://www.therapiepunkt.de/wp-content/uploads/2021/01/shutterstock_12859345961.jpg
END:VEVENT
END:VCALENDAR