BEGIN:VCALENDAR
VERSION:2.0
PRODID:-//Physiotherapie München | TherapiePUNKT - ECPv6.15.20//NONSGML v1.0//EN
CALSCALE:GREGORIAN
METHOD:PUBLISH
X-ORIGINAL-URL:https://www.therapiepunkt.de
X-WR-CALDESC:Veranstaltungen für Physiotherapie München | TherapiePUNKT
REFRESH-INTERVAL;VALUE=DURATION:PT1H
X-Robots-Tag:noindex
X-PUBLISHED-TTL:PT1H
BEGIN:VTIMEZONE
TZID:Europe/Berlin
BEGIN:DAYLIGHT
TZOFFSETFROM:+0100
TZOFFSETTO:+0200
TZNAME:CEST
DTSTART:20200329T010000
END:DAYLIGHT
BEGIN:STANDARD
TZOFFSETFROM:+0200
TZOFFSETTO:+0100
TZNAME:CET
DTSTART:20201025T010000
END:STANDARD
BEGIN:DAYLIGHT
TZOFFSETFROM:+0100
TZOFFSETTO:+0200
TZNAME:CEST
DTSTART:20210328T010000
END:DAYLIGHT
BEGIN:STANDARD
TZOFFSETFROM:+0200
TZOFFSETTO:+0100
TZNAME:CET
DTSTART:20211031T010000
END:STANDARD
BEGIN:DAYLIGHT
TZOFFSETFROM:+0100
TZOFFSETTO:+0200
TZNAME:CEST
DTSTART:20220327T010000
END:DAYLIGHT
BEGIN:STANDARD
TZOFFSETFROM:+0200
TZOFFSETTO:+0100
TZNAME:CET
DTSTART:20221030T010000
END:STANDARD
END:VTIMEZONE
BEGIN:VEVENT
DTSTART;TZID=Europe/Berlin:20210120T180000
DTEND;TZID=Europe/Berlin:20210120T183000
DTSTAMP:20260420T213924
CREATED:20210101T162456Z
LAST-MODIFIED:20210215T144546Z
UID:1518-1611165600-1611167400@www.therapiepunkt.de
SUMMARY:Webinar – Gewohnheiten brechen
DESCRIPTION:Gerade zu Jahresbeginn nehmen sich viele Menschen vor\, ihre Gewohnheiten zu brechen und diese zum Positiven zu verändern. Vielleicht haben auch Sie die eine oder andere Gewohnheit\, die Sie gerne loswerden möchten? Dann sind Sie hier genau richtig! Wir unterstützen Sie und zeigen Ihnen\, wie Sie Ihre alten Gewohnheiten hinter sich lassen. \nInhalte dieses Webinars sind: \n\nWas sind Gewohnheiten?\nWie schleichen sich Gewohnheiten in unserem Alltag ein?\nWie kann man Gewohnheiten brechen und den inneren Schweinehund besiegen?
URL:https://www.therapiepunkt.de/events-online/webinar-gewohnheiten-brechen/
LOCATION:Online
ATTACH;FMTTYPE=image/jpeg:https://www.therapiepunkt.de/wp-content/uploads/2021/01/Webinar-Gewohnheiten-brechen.jpg
END:VEVENT
BEGIN:VEVENT
DTSTART;TZID=Europe/Berlin:20210128T170000
DTEND;TZID=Europe/Berlin:20210128T190000
DTSTAMP:20260420T213924
CREATED:20210114T174035Z
LAST-MODIFIED:20210215T154834Z
UID:1676-1611853200-1611860400@www.therapiepunkt.de
SUMMARY:Workshop Teil 1 & 2: Die 4 essentiellen Entscheidungen
DESCRIPTION:Die Herausforderungen in unserem beruflichen und privaten Alltag nehmen stetig zu. Dadurch leidet unsere Produktivität und für manche kommt es sogar zum Burn-Out. Die 4 Entscheidungen regen die Teilnehmer dazu an\, die wichtigsten Ziele in ihrem Leben zu erreichen\, wodurch Produktivitätssteigerung und ein erneuertes Gefühl für Engagement und Leistung folgen. \nInhalte dieses Kurses sind: \n\nWichtiges von Unwichtigem trennen\nWerde außergewöhnlich\nBewahre dein Feuer
URL:https://www.therapiepunkt.de/events-online/workshop-die-4-essentiellen-entscheidungen/2021-01-28/
LOCATION:Online
ATTACH;FMTTYPE=image/jpeg:https://www.therapiepunkt.de/wp-content/uploads/2021/01/shutterstock_3442664661.jpg
END:VEVENT
END:VCALENDAR